BEGIN:VCALENDAR
VERSION:2.0
PRODID:-//Pražský šachový svaz - ECPv4.5.13//NONSGML v1.0//EN
CALSCALE:GREGORIAN
METHOD:PUBLISH
X-WR-CALNAME:Pražský šachový svaz
X-ORIGINAL-URL:https://prazskysach.cz
X-WR-CALDESC:Events for Pražský šachový svaz
BEGIN:VEVENT
DTSTART;TZID=UTC+1:20260125T083000
DTEND;TZID=UTC+1:20260125T113000
DTSTAMP:20260419T124306
CREATED:20251225T113842Z
LAST-MODIFIED:20251225T113945Z
UID:13580-1769329800-1769340600@prazskysach.cz
SUMMARY:UCT Chess FIDE Marathon - Blitz
DESCRIPTION:Turnaj FIDE BLITZ ve formátu 5+3 na 9 kol.\nZápočet turnaje na FRL blitz (FIDE hodnocení) \nTurnaj časově navazuje na turnaj FIDE RAPID ve stejných prostorách a kompletuje tím celý šachový „Marathon“ \nRegistrační formulář zde \nPropozice turnaje zde \nOdkaz na akci na webu pořadatele zde \n
URL:https://prazskysach.cz/kalendar/13580/
LOCATION:Jankovcova 1114/23\, Praha\, 17000\, Česká republika
CATEGORIES:FIDE,Turnaje
ORGANIZER;CN="%C5%A0achov%C3%BD%20Klub%20V%C5%A0CHT":MAILTO:vschtchessclub@gmail.com
END:VEVENT
END:VCALENDAR