BEGIN:VCALENDAR
VERSION:2.0
PRODID:-//Pražský šachový svaz - ECPv4.5.13//NONSGML v1.0//EN
CALSCALE:GREGORIAN
METHOD:PUBLISH
X-WR-CALNAME:Pražský šachový svaz
X-ORIGINAL-URL:https://prazskysach.cz
X-WR-CALDESC:Events for Pražský šachový svaz
BEGIN:VEVENT
DTSTART;TZID=UTC+1:20210224T170000
DTEND;TZID=UTC+1:20210224T193000
DTSTAMP:20260424T022311
CREATED:20210203T181542Z
LAST-MODIFIED:20210203T181542Z
UID:9623-1614186000-1614195000@prazskysach.cz
SUMMARY:Přebor Prahy mládeže online
DESCRIPTION:Komise mládeže PŠS pořádá PŘEBOR PRAHY 2021 v online rapid šachu do 18 let. \nVíce viz propozice. \n
URL:https://prazskysach.cz/kalendar/prebor-prahy-mladeze-online-3/
CATEGORIES:Turnaje
END:VEVENT
BEGIN:VEVENT
DTSTART;TZID=UTC+1:20210224T190000
DTEND;TZID=UTC+1:20210224T213000
DTSTAMP:20260424T022311
CREATED:20210117T194141Z
LAST-MODIFIED:20210117T194141Z
UID:9576-1614193200-1614202200@prazskysach.cz
SUMMARY:Pankrác online
DESCRIPTION:Pankrác online. Seriál otevřenách bleskových a rapidových turnajů pořádaný oddílem TJ Pankrác. Propozice ZDE. Odkaz na turnaj. \n
URL:https://prazskysach.cz/kalendar/pankrac-online-10/
CATEGORIES:Turnaje
ORGANIZER;CN="%C5%A0O%20TJ%20Pankr%C3%A1c":MAILTO:krouzelj@email.cz
END:VEVENT
END:VCALENDAR