BEGIN:VCALENDAR
VERSION:2.0
PRODID:-//Pražský šachový svaz - ECPv4.5.13//NONSGML v1.0//EN
CALSCALE:GREGORIAN
METHOD:PUBLISH
X-WR-CALNAME:Pražský šachový svaz
X-ORIGINAL-URL:https://prazskysach.cz
X-WR-CALDESC:Events for Pražský šachový svaz
BEGIN:VEVENT
DTSTART;VALUE=DATE:20210619
DTEND;VALUE=DATE:20210619
DTSTAMP:20260423T202304
CREATED:20210601T110254Z
LAST-MODIFIED:20210616T210556Z
UID:9869-1624060800-1624147199@prazskysach.cz
SUMMARY:Přebor Prahy v rapid šachu a kvalifikace HD10-20
DESCRIPTION:Přebor Prahy v rapid šachu HD8-14 a kvalifikace na Přebor Prahy HD10-20 \nHrací místo: \nTurnaj A (Kvalifikace H20): TJ Kobylisy\, U Školské zahrady 9\, Praha 8\, spojení – metro Kobylisy \nTurnaje B\, C\, D: Hotel Oáza\, Jeremenkova 1835/106\, Praha 4\, spojení – stanice Na Strži \nPropozice ZDE \n
URL:https://prazskysach.cz/kalendar/prebor-prahy-rapid-sachu-a-kvalifikace-hd10-20/
CATEGORIES:Turnaje
END:VEVENT
BEGIN:VEVENT
DTSTART;TZID=UTC+1:20210619T170000
DTEND;TZID=UTC+1:20210619T190000
DTSTAMP:20260423T202304
CREATED:20210616T212713Z
LAST-MODIFIED:20210616T212713Z
UID:9910-1624122000-1624129200@prazskysach.cz
SUMMARY:Přednáška o velmistru Lubomírovi Kaválkovi
DESCRIPTION:Srdečně zveme šachové fanoušky na přednášku slovenského velmistra Jána Plachetky o legendě československého a světového šachu velmistru Lubomírovi Kaválkovi. \nFotografie\, video medailonek\, čtení z připravované autobiografie nebo historky Kaválkových kamarádů okoření večer vzpomínek na Lubomíra Kaválka\, který začne v sobotu 19. června v 17:00 hodin na hotelu Don Giovanni. Vstup zdarma. \nPořadatelé Prague International Chess Festival \n
URL:https://prazskysach.cz/kalendar/prednaska-o-velmistru-lubomirovi-kavalkovi/
LOCATION:Vinohradská 157a\, Praha 3\, Hlavní město Praha\, 130 20\, Česká republika
CATEGORIES:Přednáška
END:VEVENT
END:VCALENDAR