BEGIN:VCALENDAR
VERSION:2.0
PRODID:-//Pražský šachový svaz - ECPv4.5.13//NONSGML v1.0//EN
CALSCALE:GREGORIAN
METHOD:PUBLISH
X-WR-CALNAME:Pražský šachový svaz
X-ORIGINAL-URL:https://prazskysach.cz
X-WR-CALDESC:Events for Pražský šachový svaz
BEGIN:VEVENT
DTSTART;VALUE=DATE:20210710
DTEND;VALUE=DATE:20210718
DTSTAMP:20260423T190926
CREATED:20210620T195428Z
LAST-MODIFIED:20210620T195428Z
UID:9919-1625875200-1626652799@prazskysach.cz
SUMMARY:Zlatá Praha
DESCRIPTION:V rámci 16. ročníku Pražského šachového festivalu konaného ve dnech 10.-18.7.2021 se uskuteční čtyři uzavřené turnaje a dva otevřené turnaje: \n\nMemoriál Karla Opočenského GM (ELO FIDE > 2200) Pražský šachový festival 2021 – propozice (chess-academy.cz)\nMemoriál Františka Zíty IM (ELO FIDE > 2000) Pražský šachový festival 2021 – propozice (chess-academy.cz)\nMemoriál Karla Průchy (ELO FIDE > 1950) Pražský šachový festival 2021 – propozice (chess-academy.cz)\nMemoriál Františka Macka (S65+\, nar. 1956 a st.) Pražský šachový festival 2021 – propozice (chess-academy.cz)\nOpen Zlatá Praha A (ELO FIDE > 1799) Pražský šachový festival 2021 – propozice (chess-academy.cz)\nOpen Zlatá Praha B (ELO FIDE < 1800) Pražský šachový festival 2021 – propozice (chess-academy.cz)\n\n
URL:https://prazskysach.cz/kalendar/zlata-praha/
LOCATION:Karlínské náměstí 7\, Praha\, Hlavní město Praha\, Česká republika
CATEGORIES:Turnaje
END:VEVENT
BEGIN:VEVENT
DTSTART;TZID=UTC+1:20210715T080000
DTEND;TZID=UTC+1:20210801T170000
DTSTAMP:20260423T190926
CREATED:20210628T174235Z
LAST-MODIFIED:20210628T174235Z
UID:9940-1626336000-1627837200@prazskysach.cz
SUMMARY:Czech open 2021
DESCRIPTION:XXXII. ročník mezinárodního šachového festivalu \nPardubice 15. 7. – 1. 8. 2021 – Czech open 2021 – propozice \n
URL:https://prazskysach.cz/kalendar/czech-open-2021/
LOCATION:Jiráskova 1963\, 530 02 Pardubice\, Pardubice\, Pardubický kraj\, 530 02\, Česká republika
CATEGORIES:Turnaje
END:VEVENT
END:VCALENDAR