BEGIN:VCALENDAR
VERSION:2.0
PRODID:-//Pražský šachový svaz - ECPv4.5.13//NONSGML v1.0//EN
CALSCALE:GREGORIAN
METHOD:PUBLISH
X-WR-CALNAME:Pražský šachový svaz
X-ORIGINAL-URL:https://prazskysach.cz
X-WR-CALDESC:Events for Pražský šachový svaz
BEGIN:VEVENT
DTSTART;TZID=UTC+1:20210924T170000
DTEND;TZID=UTC+1:20210926T190000
DTSTAMP:20260423T161739
CREATED:20210813T225005Z
LAST-MODIFIED:20210813T225005Z
UID:10138-1632502800-1632682800@prazskysach.cz
SUMMARY:Pražský šachový podzim
DESCRIPTION:Domovská stránka turnaje: \nPražský šachový podzim – Prague Chess Autumn | Šachový klub Dopravní podnik Praha (skdp.cz) \nPropozice (verze 1.2): \n\n Pražský šachový podzim – propozice (skdp.cz)\n\nNová událost na webové stránce ŠK Dopravní podnik jako Aktualita: \n\n Memoriál Věry Menčíkové | Šachový klub Dopravní podnik Praha (skdp.cz)\n\nNová událost na Facebooku na veřejné stránce ŠK Dopravní podnik Praha: \n\n Pražský šachový podzim | Facebook\n\n
URL:https://prazskysach.cz/kalendar/prazsky-sachovy-podzim/
LOCATION:U staré cihelny 2182/11\, Praha 3\, Hlavní město Praha\, 130 00\, Česká republika
CATEGORIES:Turnaje
END:VEVENT
BEGIN:VEVENT
DTSTART;TZID=Europe/Prague:20210925T083000
DTEND;TZID=Europe/Prague:20210925T163000
DTSTAMP:20260423T161739
CREATED:20210711T172642Z
LAST-MODIFIED:20210914T073618Z
UID:9977-1632558600-1632587400@prazskysach.cz
SUMMARY:Seniorka
DESCRIPTION:Turnaj v rapid šachu pro seniory u příležitosti Mezinárodního dne seniorů pod záštitou radního (JUDr. Lachnit) \n  \nPropozice ZDE \n
URL:https://prazskysach.cz/kalendar/seniorka-3/
LOCATION:Štefánikova 13\, Praha 5\, Hlavní město Praha\, 150 00\, Česká republika
CATEGORIES:Turnaje
END:VEVENT
BEGIN:VEVENT
DTSTART;TZID=Europe/Prague:20210925T133000
DTEND;TZID=Europe/Prague:20210925T180000
DTSTAMP:20260423T161739
CREATED:20210821T063146Z
LAST-MODIFIED:20210821T063146Z
UID:10163-1632576600-1632592800@prazskysach.cz
SUMMARY:Kobyliský rapid
DESCRIPTION:Seriál turnajů v rapidu pořádaný šachovým oddílem TJ Kobylisy. Propozice ZDE \n
URL:https://prazskysach.cz/kalendar/kobylisky-rapid-39/
LOCATION:U Školské zahrady 430/9\, Praha 8-Kobylisy\, Hlavní město Praha\, Česká republika
CATEGORIES:Turnaje
END:VEVENT
END:VCALENDAR