BEGIN:VCALENDAR
VERSION:2.0
PRODID:-//Pražský šachový svaz - ECPv4.5.13//NONSGML v1.0//EN
CALSCALE:GREGORIAN
METHOD:PUBLISH
X-WR-CALNAME:Pražský šachový svaz
X-ORIGINAL-URL:https://prazskysach.cz
X-WR-CALDESC:Events for Pražský šachový svaz
BEGIN:VEVENT
DTSTART;TZID=Europe/Prague:20211017T100000
DTEND;TZID=Europe/Prague:20211017T150000
DTSTAMP:20260423T144454
CREATED:20210711T195157Z
LAST-MODIFIED:20210711T195157Z
UID:10025-1634464800-1634482800@prazskysach.cz
SUMMARY:II. liga - 1.kolo
DESCRIPTION:2.liga družstev  – dospělých. Týmy jsou rozděleny do 6 skupin A až F.  Každá skupina má 12 družstev. V tento termín se tedy hraje na 36 (6×6) místech. Odkaz na přehled ligových soutěží. \n
URL:https://prazskysach.cz/kalendar/ii-liga-1-kolo-5/
CATEGORIES:Turnaje
ORGANIZER;CN="%C5%A0achov%C3%BD%20svaz%20%C4%8Cesk%C3%A9%20republiky":MAILTO:sekretariat@chess.cz
END:VEVENT
BEGIN:VEVENT
DTSTART;TZID=Europe/Prague:20211017T100000
DTEND;TZID=Europe/Prague:20211017T150000
DTSTAMP:20260423T144454
CREATED:20210801T064808Z
LAST-MODIFIED:20210801T064808Z
UID:10096-1634464800-1634482800@prazskysach.cz
SUMMARY:Extraliga - 2. kolo
DESCRIPTION:Nejvyšší šachová soutěž družstev v ČR.\nOdkaz na výsledky a rozpis soutěže. \n
URL:https://prazskysach.cz/kalendar/extraliga-2-kolo-5/
CATEGORIES:Turnaje
ORGANIZER;CN="%C5%A0achov%C3%BD%20svaz%20%C4%8Cesk%C3%A9%20republiky":MAILTO:sekretariat@chess.cz
END:VEVENT
BEGIN:VEVENT
DTSTART;TZID=UTC+1:20211017T100000
DTEND;TZID=UTC+1:20211017T170000
DTSTAMP:20260423T144454
CREATED:20210918T191521Z
LAST-MODIFIED:20210918T192040Z
UID:10215-1634464800-1634490000@prazskysach.cz
SUMMARY:Rapid v Akátu
DESCRIPTION:Šachový turnaj jednotlivců \nPropozice ZDE. \n
URL:https://prazskysach.cz/kalendar/rapid-v-akatu/
LOCATION:Nádražní 42/851\, Praha\, Česká republika
CATEGORIES:Turnaje
END:VEVENT
BEGIN:VEVENT
DTSTART;TZID=Europe/Prague:20211017T133000
DTEND;TZID=Europe/Prague:20211017T180000
DTSTAMP:20260423T144454
CREATED:20210821T063213Z
LAST-MODIFIED:20210821T063213Z
UID:10173-1634477400-1634493600@prazskysach.cz
SUMMARY:Kobyliský koník
DESCRIPTION:Seriál rapid turnajů pro mládež pořádaný šachovým oddílem TJ Kobylisy. Vhodné i pro začátečníky – možnost splnění 4.VT. Přihlášky na místě. Propozice ZDE \n
URL:https://prazskysach.cz/kalendar/kobylisky-konik-16/
LOCATION:U Školské zahrady 430/9\, Praha 8-Kobylisy\, Hlavní město Praha\, Česká republika
CATEGORIES:Turnaje
END:VEVENT
END:VCALENDAR