BEGIN:VCALENDAR
VERSION:2.0
PRODID:-//Pražský šachový svaz - ECPv4.5.13//NONSGML v1.0//EN
CALSCALE:GREGORIAN
METHOD:PUBLISH
X-WR-CALNAME:Pražský šachový svaz
X-ORIGINAL-URL:https://prazskysach.cz
X-WR-CALDESC:Events for Pražský šachový svaz
BEGIN:VEVENT
DTSTART;TZID=UTC+1:20211022T173000
DTEND;TZID=UTC+1:20211022T203000
DTSTAMP:20260423T144617
CREATED:20210925T171754Z
LAST-MODIFIED:20210925T171754Z
UID:10228-1634923800-1634934600@prazskysach.cz
SUMMARY:O Vyšehradského koně
DESCRIPTION:Seriál bleskových turnajích v klubovně ŠK Sokol Vyšehrad na adrese Rašínovo nábřeží 24\,Praha 2. Hrajeme každý pátek. Propozice naleznete na https://skvysehrad.cz/aktuality/bleskove-turnaje-v-nasi-klubovne-o-vysehradskeho-kone-2021/ \n
URL:https://prazskysach.cz/kalendar/o-vysehradskeho-kone-4/
CATEGORIES:Turnaje
END:VEVENT
BEGIN:VEVENT
DTSTART;TZID=Europe/Prague:20211022T180000
DTEND;TZID=Europe/Prague:20211022T200000
DTSTAMP:20260423T144617
CREATED:20210821T063114Z
LAST-MODIFIED:20210821T063114Z
UID:10149-1634925600-1634932800@prazskysach.cz
SUMMARY:Sudý pátek
DESCRIPTION:Seriál pátečních bleskových turnajů pořádaný šachovým oddílem TJ Kobylisy. Propozice ZDE \n
URL:https://prazskysach.cz/kalendar/sudy-patek-78/
LOCATION:U Školské zahrady 430/9\, Praha 8-Kobylisy\, Hlavní město Praha\, Česká republika
CATEGORIES:Turnaje
END:VEVENT
END:VCALENDAR