BEGIN:VCALENDAR
VERSION:2.0
PRODID:-//Pražský šachový svaz - ECPv4.5.13//NONSGML v1.0//EN
CALSCALE:GREGORIAN
METHOD:PUBLISH
X-WR-CALNAME:Pražský šachový svaz
X-ORIGINAL-URL:https://prazskysach.cz
X-WR-CALDESC:Events for Pražský šachový svaz
BEGIN:VEVENT
DTSTART;TZID=UTC+1:20211028T110000
DTEND;TZID=UTC+1:20211031T150000
DTSTAMP:20260423T144539
CREATED:20210804T183640Z
LAST-MODIFIED:20210804T183640Z
UID:10121-1635418800-1635692400@prazskysach.cz
SUMMARY:Memoriál Josefa Mahrly
DESCRIPTION:ŠACHOVÝ KLUB MAHRLA PRAHA z.s.\nve spolupráci s fy VODNÍ KRÁLOVSTVÍ s.r.o.\npořádá\n28.10. – 31.10.2021\n1.ročník ŠT OPEN “Memoriál Josefa Mahrly“ \n\nPROPOZICE ZDE \n
URL:https://prazskysach.cz/kalendar/memorial-josefa-mahrly-2/
LOCATION:Do potoků 50\, Praha\, Česká republika
CATEGORIES:Turnaje
END:VEVENT
BEGIN:VEVENT
DTSTART;TZID=Europe/Prague:20211031T100000
DTEND;TZID=Europe/Prague:20211031T150000
DTSTAMP:20260423T144539
CREATED:20210711T195103Z
LAST-MODIFIED:20210711T201521Z
UID:10004-1635674400-1635692400@prazskysach.cz
SUMMARY:I. liga - západ - 2.kolo
DESCRIPTION:1. liga družstev – dospělých. Skupina západ. Skupina má 12 družstev. V tento termín se tedy hraje na 6 místech. Odkaz na přehled ligových soutěží. \n
URL:https://prazskysach.cz/kalendar/i-liga-zapad-2-kolo/
CATEGORIES:Turnaje
ORGANIZER;CN="%C5%A0achov%C3%BD%20svaz%20%C4%8Cesk%C3%A9%20republiky":MAILTO:sekretariat@chess.cz
END:VEVENT
END:VCALENDAR