BEGIN:VCALENDAR
VERSION:2.0
PRODID:-//Pražský šachový svaz - ECPv4.5.13//NONSGML v1.0//EN
CALSCALE:GREGORIAN
METHOD:PUBLISH
X-WR-CALNAME:Pražský šachový svaz
X-ORIGINAL-URL:https://prazskysach.cz
X-WR-CALDESC:Events for Pražský šachový svaz
BEGIN:VEVENT
DTSTART;TZID=Europe/Prague:20211112T180000
DTEND;TZID=Europe/Prague:20211112T200000
DTSTAMP:20260423T131746
CREATED:20210821T063116Z
LAST-MODIFIED:20210821T063116Z
UID:10150-1636740000-1636747200@prazskysach.cz
SUMMARY:Sudý pátek
DESCRIPTION:Seriál pátečních bleskových turnajů pořádaný šachovým oddílem TJ Kobylisy. Propozice ZDE \n
URL:https://prazskysach.cz/kalendar/sudy-patek-79/
LOCATION:U Školské zahrady 430/9\, Praha 8-Kobylisy\, Hlavní město Praha\, Česká republika
CATEGORIES:Turnaje
END:VEVENT
BEGIN:VEVENT
DTSTART;TZID=UTC+1:20211112T180000
DTEND;TZID=UTC+1:20211112T203000
DTSTAMP:20260423T131746
CREATED:20211103T184658Z
LAST-MODIFIED:20211103T184658Z
UID:10284-1636740000-1636749000@prazskysach.cz
SUMMARY:O Vyšehradského koně
DESCRIPTION:\n\nSeriál bleskových turnajích v klubovně ŠK Sokol Vyšehrad na adrese Rašínovo nábřeží 24\,Praha 2. Hrajeme každý pátek. Propozice naleznete na https://skvysehrad.cz/aktuality/bleskove-turnaje-v-nasi-klubovne-o-vysehradskeho-kone-2021/ \n\n\n
URL:https://prazskysach.cz/kalendar/o-vysehradskeho-kone-6/
LOCATION:Hlavní město Praha
END:VEVENT
END:VCALENDAR