BEGIN:VCALENDAR
VERSION:2.0
PRODID:-//Pražský šachový svaz - ECPv4.5.13//NONSGML v1.0//EN
CALSCALE:GREGORIAN
METHOD:PUBLISH
X-WR-CALNAME:Pražský šachový svaz
X-ORIGINAL-URL:https://prazskysach.cz
X-WR-CALDESC:Events for Pražský šachový svaz
BEGIN:VEVENT
DTSTART;VALUE=DATE:20211113
DTEND;VALUE=DATE:20211120
DTSTAMP:20260423T131703
CREATED:20210801T084736Z
LAST-MODIFIED:20210801T084736Z
UID:10116-1636761600-1637452799@prazskysach.cz
SUMMARY:Polofinále MČR juniorů a dorostenců
DESCRIPTION:Polofinále MČR juniorů a dorostenců H18+20 a D18+20. Detailní informace jsou k dispozici na stránkách ŠSČR  na tomto odkazu.. \n
URL:https://prazskysach.cz/kalendar/polofinale-mcr-junioru-a-dorostencu-2/
CATEGORIES:Turnaje
ORGANIZER;CN="%C5%A0achov%C3%BD%20svaz%20%C4%8Cesk%C3%A9%20republiky":MAILTO:sekretariat@chess.cz
END:VEVENT
BEGIN:VEVENT
DTSTART;TZID=Europe/Prague:20211120T080000
DTEND;TZID=Europe/Prague:20211120T173000
DTSTAMP:20260423T131703
CREATED:20210711T172651Z
LAST-MODIFIED:20211103T100506Z
UID:9979-1637395200-1637429400@prazskysach.cz
SUMMARY:Turnaj generací - ZRUŠENO
DESCRIPTION:ŠK Smíchov se moc omlouvá\, ale za aktuální epidemiologické situace a po komunikaci s Radnicí Prahy 5 nejsme schopni plánované turnaje (WEISGRAB\, GENERACE\, MIKULÁŠ + KAPR) na Radnici Prahy 5 uskutečnit.\nV případě zlepšení epidemiologické situace vás budeme o realizaci plánovaných turnajů informovat \n
URL:https://prazskysach.cz/kalendar/turnaj-generaci-2/
LOCATION:Štefánikova 13\, Praha 5\, Hlavní město Praha\, 150 00\, Česká republika
CATEGORIES:Turnaje
END:VEVENT
BEGIN:VEVENT
DTSTART;TZID=UTC+1:20211120T090000
DTEND;TZID=UTC+1:20211120T160000
DTSTAMP:20260423T131703
CREATED:20211028T165452Z
LAST-MODIFIED:20211028T165452Z
UID:10268-1637398800-1637424000@prazskysach.cz
SUMMARY:OAZA OPEN v rapid šachu do 14 let.
DESCRIPTION:Propozice ZDE: oaza_open_do_14-ti_let \n
URL:https://prazskysach.cz/kalendar/oaza-open-v-rapid-sachu-do-14-let/
LOCATION:Jeremenkova 106\, Praha\, Hlavní město Praha\, 14053\, Česká republika
END:VEVENT
END:VCALENDAR