BEGIN:VCALENDAR
VERSION:2.0
PRODID:-//Pražský šachový svaz - ECPv4.5.13//NONSGML v1.0//EN
CALSCALE:GREGORIAN
METHOD:PUBLISH
X-WR-CALNAME:Pražský šachový svaz
X-ORIGINAL-URL:https://prazskysach.cz
X-WR-CALDESC:Events for Pražský šachový svaz
BEGIN:VEVENT
DTSTART;TZID=UTC+1:20211210T080000
DTEND;TZID=UTC+1:20211210T170000
DTSTAMP:20260423T115119
CREATED:20211103T184935Z
LAST-MODIFIED:20211103T184935Z
UID:10292-1639123200-1639155600@prazskysach.cz
SUMMARY:O Vyšehradského koně
DESCRIPTION:\n\nSeriál bleskových turnajích v klubovně ŠK Sokol Vyšehrad na adrese Rašínovo nábřeží 24\,Praha 2. Hrajeme každý pátek. Propozice naleznete na https://skvysehrad.cz/aktuality/bleskove-turnaje-v-nasi-klubovne-o-vysehradskeho-kone-2021/ \n\n\n
URL:https://prazskysach.cz/kalendar/o-vysehradskeho-kone-10/
CATEGORIES:Turnaje
END:VEVENT
BEGIN:VEVENT
DTSTART;TZID=Europe/Prague:20211210T180000
DTEND;TZID=Europe/Prague:20211210T200000
DTSTAMP:20260423T115119
CREATED:20210821T063123Z
LAST-MODIFIED:20210821T063123Z
UID:10152-1639159200-1639166400@prazskysach.cz
SUMMARY:Sudý pátek
DESCRIPTION:Seriál pátečních bleskových turnajů pořádaný šachovým oddílem TJ Kobylisy. Propozice ZDE \n
URL:https://prazskysach.cz/kalendar/sudy-patek-81/
LOCATION:U Školské zahrady 430/9\, Praha 8-Kobylisy\, Hlavní město Praha\, Česká republika
CATEGORIES:Turnaje
END:VEVENT
END:VCALENDAR