BEGIN:VCALENDAR
VERSION:2.0
PRODID:-//Pražský šachový svaz - ECPv4.5.13//NONSGML v1.0//EN
CALSCALE:GREGORIAN
METHOD:PUBLISH
X-WR-CALNAME:Pražský šachový svaz
X-ORIGINAL-URL:https://prazskysach.cz
X-WR-CALDESC:Events for Pražský šachový svaz
BEGIN:VEVENT
DTSTART;TZID=UTC+1:20220122T090000
DTEND;TZID=UTC+1:20220122T153000
DTSTAMP:20260423T102817
CREATED:20220109T195304Z
LAST-MODIFIED:20220118T193731Z
UID:10376-1642842000-1642865400@prazskysach.cz
SUMMARY:OAZA AKROP OPEN 2022 - 1. turnaj
DESCRIPTION:Turnaj pro mládež do 14-ti let pořádaný SK OAZA Praha. \nPropozice: OAZA_AKROP_OPEN_2022 \n
URL:https://prazskysach.cz/kalendar/oaza-akrop-open-2022-1-turnaj/
LOCATION:Jeremenkova 106\, Praha\, Hlavní město Praha\, 14053\, Česká republika
CATEGORIES:Turnaje
END:VEVENT
BEGIN:VEVENT
DTSTART;TZID=Europe/Prague:20220122T140000
DTEND;TZID=Europe/Prague:20220122T190000
DTSTAMP:20260423T102817
CREATED:20210711T195139Z
LAST-MODIFIED:20210711T200723Z
UID:10019-1642860000-1642878000@prazskysach.cz
SUMMARY:I. liga - východ - 6.kolo
DESCRIPTION:1. liga družstev – dospělých. Skupina východ. Skupina má 12 družstev. V tento termín se tedy hraje na 6 místech. Odkaz na přehled ligových soutěží. \n
URL:https://prazskysach.cz/kalendar/i-liga-vychod-6-kolo/
LOCATION:Hlavní město Praha
CATEGORIES:Turnaje
ORGANIZER;CN="%C5%A0achov%C3%BD%20svaz%20%C4%8Cesk%C3%A9%20republiky":MAILTO:sekretariat@chess.cz
END:VEVENT
END:VCALENDAR