BEGIN:VCALENDAR
VERSION:2.0
PRODID:-//Pražský šachový svaz - ECPv4.5.13//NONSGML v1.0//EN
CALSCALE:GREGORIAN
METHOD:PUBLISH
X-WR-CALNAME:Pražský šachový svaz
X-ORIGINAL-URL:https://prazskysach.cz
X-WR-CALDESC:Events for Pražský šachový svaz
BEGIN:VEVENT
DTSTART;TZID=Europe/Prague:20220408T160000
DTEND;TZID=Europe/Prague:20220408T210000
DTSTAMP:20260421T050630
CREATED:20210801T064833Z
LAST-MODIFIED:20210801T064833Z
UID:10107-1649433600-1649451600@prazskysach.cz
SUMMARY:Extraliga - 13. kolo
DESCRIPTION:Nejvyšší šachová soutěž družstev v ČR.\nOdkaz na výsledky a rozpis soutěže. \n
URL:https://prazskysach.cz/kalendar/extraliga-13-kolo-2/
CATEGORIES:Turnaje
ORGANIZER;CN="%C5%A0achov%C3%BD%20svaz%20%C4%8Cesk%C3%A9%20republiky":MAILTO:sekretariat@chess.cz
END:VEVENT
BEGIN:VEVENT
DTSTART;TZID=Europe/Prague:20220408T180000
DTEND;TZID=Europe/Prague:20220408T200000
DTSTAMP:20260421T050630
CREATED:20210821T063137Z
LAST-MODIFIED:20210821T063137Z
UID:10159-1649440800-1649448000@prazskysach.cz
SUMMARY:Sudý pátek
DESCRIPTION:Seriál pátečních bleskových turnajů pořádaný šachovým oddílem TJ Kobylisy. Propozice ZDE \n
URL:https://prazskysach.cz/kalendar/sudy-patek-87/
LOCATION:U Školské zahrady 430/9\, Praha 8-Kobylisy\, Hlavní město Praha\, Česká republika
CATEGORIES:Turnaje
END:VEVENT
END:VCALENDAR