BEGIN:VCALENDAR
VERSION:2.0
PRODID:-//Pražský šachový svaz - ECPv4.5.13//NONSGML v1.0//EN
CALSCALE:GREGORIAN
METHOD:PUBLISH
X-WR-CALNAME:Pražský šachový svaz
X-ORIGINAL-URL:https://prazskysach.cz
X-WR-CALDESC:Events for Pražský šachový svaz
BEGIN:VEVENT
DTSTART;VALUE=DATE:20220409
DTEND;VALUE=DATE:20220410
DTSTAMP:20260421T050629
CREATED:20220307T092204Z
LAST-MODIFIED:20220307T092204Z
UID:10458-1649462400-1649635199@prazskysach.cz
SUMMARY:MČR do 8 let
DESCRIPTION:https://www.chess.cz/mistrovske-souteze/souteze-mladeze/mcr-do-8-let/ \n  \n
URL:https://prazskysach.cz/kalendar/mcr-do-8-let-2/
LOCATION:Klatovy
CATEGORIES:Turnaje
END:VEVENT
BEGIN:VEVENT
DTSTART;TZID=Europe/Prague:20220410T100000
DTEND;TZID=Europe/Prague:20220410T150000
DTSTAMP:20260421T050629
CREATED:20210801T064835Z
LAST-MODIFIED:20210801T064835Z
UID:10109-1649584800-1649602800@prazskysach.cz
SUMMARY:Extraliga - 15. kolo
DESCRIPTION:Nejvyšší šachová soutěž družstev v ČR.\nOdkaz na výsledky a rozpis soutěže. \n
URL:https://prazskysach.cz/kalendar/extraliga-15-kolo-2/
CATEGORIES:Turnaje
ORGANIZER;CN="%C5%A0achov%C3%BD%20svaz%20%C4%8Cesk%C3%A9%20republiky":MAILTO:sekretariat@chess.cz
END:VEVENT
END:VCALENDAR