BEGIN:VCALENDAR
VERSION:2.0
PRODID:-//Pražský šachový svaz - ECPv4.5.13//NONSGML v1.0//EN
CALSCALE:GREGORIAN
METHOD:PUBLISH
X-WR-CALNAME:Pražský šachový svaz
X-ORIGINAL-URL:https://prazskysach.cz
X-WR-CALDESC:Events for Pražský šachový svaz
BEGIN:VEVENT
DTSTART;VALUE=DATE:20220424
DTEND;VALUE=DATE:20220424
DTSTAMP:20260421T050706
CREATED:20210711T190130Z
LAST-MODIFIED:20210711T190130Z
UID:9989-1650758400-1650844799@prazskysach.cz
SUMMARY:Přebor Prahy starších žáků
DESCRIPTION:Přebor Prahy družstev starších žáků. Detailní informace jsou k dispozici na stránkách PŠS v sekci   mládež/družstva. Přebor je kvalifikací pro postup do 1. ligy mládeže. \n
URL:https://prazskysach.cz/kalendar/prebor-prahy-starsich-zaku-26/
CATEGORIES:Turnaje
END:VEVENT
BEGIN:VEVENT
DTSTART;VALUE=DATE:20220424
DTEND;VALUE=DATE:20220424
DTSTAMP:20260421T050706
CREATED:20210711T191830Z
LAST-MODIFIED:20210711T191830Z
UID:9998-1650758400-1650844799@prazskysach.cz
SUMMARY:Extraliga a I. liga mládeže
DESCRIPTION:Termíny vyhrazené pro extraligu a 1. ligu mládeže.  Detailní informace lze nalézt na stránkách ŠSČR pro   extraligu mládeže a  1. ligu mládeže \n
URL:https://prazskysach.cz/kalendar/extraliga-a-i-liga-mladeze-21/
CATEGORIES:Turnaje
ORGANIZER;CN="%C5%A0achov%C3%BD%20svaz%20%C4%8Cesk%C3%A9%20republiky":MAILTO:sekretariat@chess.cz
END:VEVENT
END:VCALENDAR