BEGIN:VCALENDAR
VERSION:2.0
PRODID:-//Pražský šachový svaz - ECPv4.5.13//NONSGML v1.0//EN
CALSCALE:GREGORIAN
METHOD:PUBLISH
X-WR-CALNAME:Pražský šachový svaz
X-ORIGINAL-URL:https://prazskysach.cz
X-WR-CALDESC:Events for Pražský šachový svaz
BEGIN:VEVENT
DTSTART;TZID=UTC+1:20220507T090000
DTEND;TZID=UTC+1:20220507T153000
DTSTAMP:20260421T033954
CREATED:20220124T184932Z
LAST-MODIFIED:20220124T184932Z
UID:10412-1651914000-1651937400@prazskysach.cz
SUMMARY:OAZA AKROP OPEN 2022 - 3. turnaj
DESCRIPTION:Propozice ZDE: OAZA_AKROP_OPEN_2022 \n
URL:https://prazskysach.cz/kalendar/oaza-akrop-open-2022-3-turnaj/
LOCATION:Jeremenkova 106\, Praha\, Hlavní město Praha\, 14053\, Česká republika
CATEGORIES:Turnaje
END:VEVENT
BEGIN:VEVENT
DTSTART;TZID=Europe/Prague:20220507T133000
DTEND;TZID=Europe/Prague:20220507T180000
DTSTAMP:20260421T033954
CREATED:20210821T063203Z
LAST-MODIFIED:20210821T063203Z
UID:10171-1651930200-1651946400@prazskysach.cz
SUMMARY:Kobyliský rapid
DESCRIPTION:Seriál turnajů v rapidu pořádaný šachovým oddílem TJ Kobylisy. Propozice ZDE \n
URL:https://prazskysach.cz/kalendar/kobylisky-rapid-47/
LOCATION:U Školské zahrady 430/9\, Praha 8-Kobylisy\, Hlavní město Praha\, Česká republika
CATEGORIES:Turnaje
END:VEVENT
END:VCALENDAR