BEGIN:VCALENDAR
VERSION:2.0
PRODID:-//Pražský šachový svaz - ECPv4.5.13//NONSGML v1.0//EN
CALSCALE:GREGORIAN
METHOD:PUBLISH
X-WR-CALNAME:Pražský šachový svaz
X-ORIGINAL-URL:https://prazskysach.cz
X-WR-CALDESC:Events for Pražský šachový svaz
BEGIN:VEVENT
DTSTART;TZID=Europe/Prague:20220520T180000
DTEND;TZID=Europe/Prague:20220520T200000
DTSTAMP:20260421T035158
CREATED:20210821T063144Z
LAST-MODIFIED:20210821T063144Z
UID:10162-1653069600-1653076800@prazskysach.cz
SUMMARY:Sudý pátek
DESCRIPTION:Seriál pátečních bleskových turnajů pořádaný šachovým oddílem TJ Kobylisy. Propozice ZDE \n
URL:https://prazskysach.cz/kalendar/sudy-patek-90/
LOCATION:U Školské zahrady 430/9\, Praha 8-Kobylisy\, Hlavní město Praha\, Česká republika
CATEGORIES:Turnaje
END:VEVENT
BEGIN:VEVENT
DTSTART;TZID=Europe/Prague:20220520T190000
DTEND;TZID=Europe/Prague:20220520T210000
DTSTAMP:20260421T035158
CREATED:20220420T080854Z
LAST-MODIFIED:20220420T080854Z
UID:10607-1653073200-1653080400@prazskysach.cz
SUMMARY:Bleskový turnaj Bohemians
DESCRIPTION:O bohemácký ručník 2022 (IX. ročník). Seriál otevřených bleskových turnajů pořádaný oddílem Bohemians. Propozice  ZDE \n
URL:https://prazskysach.cz/kalendar/bleskovy-turnaj-bohemians-38/
LOCATION:Slovenská 2\, Praha 10\, Hlavní město Praha\, 101 00\, Česká republika
CATEGORIES:Turnaje
END:VEVENT
END:VCALENDAR