BEGIN:VCALENDAR
VERSION:2.0
PRODID:-//Pražský šachový svaz - ECPv4.5.13//NONSGML v1.0//EN
CALSCALE:GREGORIAN
METHOD:PUBLISH
X-WR-CALNAME:Pražský šachový svaz
X-ORIGINAL-URL:https://prazskysach.cz
X-WR-CALDESC:Events for Pražský šachový svaz
BEGIN:VEVENT
DTSTART;VALUE=DATE:20220607
DTEND;VALUE=DATE:20220617
DTSTAMP:20260421T022943
CREATED:20220522T193306Z
LAST-MODIFIED:20220522T193306Z
UID:10666-1654560000-1655510399@prazskysach.cz
SUMMARY:Prague international chess festival
DESCRIPTION:Přehled turnajů \nPropozice \n
URL:https://prazskysach.cz/kalendar/prague-international-chess-festival/
LOCATION:Vinohradská 157a\, Praha 3\, Hlavní město Praha\, 130 20\, Česká republika
CATEGORIES:Turnaje
END:VEVENT
BEGIN:VEVENT
DTSTART;TZID=UTC+1:20220611T080000
DTEND;TZID=UTC+1:20220611T170000
DTSTAMP:20260421T022943
CREATED:20220515T042949Z
LAST-MODIFIED:20220515T042949Z
UID:10658-1654934400-1654966800@prazskysach.cz
SUMMARY:Přebor Prahy v rapid šachu 4-čl. družstev
DESCRIPTION:Propozice \n
URL:https://prazskysach.cz/kalendar/prebor-prahy-v-rapid-sachu-4-cl-druzstev/
LOCATION:Hlavní město Praha
CATEGORIES:Turnaje
END:VEVENT
END:VCALENDAR