BEGIN:VCALENDAR
VERSION:2.0
PRODID:-//Pražský šachový svaz - ECPv4.5.13//NONSGML v1.0//EN
CALSCALE:GREGORIAN
METHOD:PUBLISH
X-WR-CALNAME:Pražský šachový svaz
X-ORIGINAL-URL:https://prazskysach.cz
X-WR-CALDESC:Events for Pražský šachový svaz
BEGIN:VEVENT
DTSTART;VALUE=DATE:20220709
DTEND;VALUE=DATE:20220717
DTSTAMP:20260421T005442
CREATED:20220611T153008Z
LAST-MODIFIED:20220611T153008Z
UID:10685-1657324800-1658102399@prazskysach.cz
SUMMARY:Zlatá Praha - klasický šach
DESCRIPTION:Turnaje v klasickém šachu. \nhttp://chess-academy.cz/psf2022/ \n  \n
URL:https://prazskysach.cz/kalendar/zlata-praha-klasicky-sach/
LOCATION:Karlínské náměstí 7\, Praha\, Hlavní město Praha\, Česká republika
END:VEVENT
BEGIN:VEVENT
DTSTART;VALUE=DATE:20220714
DTEND;VALUE=DATE:20220731
DTSTAMP:20260421T005442
CREATED:20220611T155604Z
LAST-MODIFIED:20220611T155604Z
UID:10693-1657756800-1659311999@prazskysach.cz
SUMMARY:Czech Open 2022
DESCRIPTION:https://www.czechopen.net/uploads/dokumenty2022/propozice/czechopen-2022-cz.pdf \n  \n  \n
URL:https://prazskysach.cz/kalendar/czech-open-2022/
LOCATION:Hlavní město Praha
CATEGORIES:Turnaje
END:VEVENT
BEGIN:VEVENT
DTSTART;TZID=Europe/Prague:20220715T190000
DTEND;TZID=Europe/Prague:20220715T210000
DTSTAMP:20260421T005442
CREATED:20220420T080856Z
LAST-MODIFIED:20220420T080856Z
UID:10609-1657911600-1657918800@prazskysach.cz
SUMMARY:Bleskový turnaj Bohemians
DESCRIPTION:O bohemácký ručník 2022 (IX. ročník). Seriál otevřených bleskových turnajů pořádaný oddílem Bohemians. Propozice  ZDE \n
URL:https://prazskysach.cz/kalendar/bleskovy-turnaj-bohemians-40/
LOCATION:Slovenská 2\, Praha 10\, Hlavní město Praha\, 101 00\, Česká republika
CATEGORIES:Turnaje
END:VEVENT
END:VCALENDAR