BEGIN:VCALENDAR
VERSION:2.0
PRODID:-//Pražský šachový svaz - ECPv4.5.13//NONSGML v1.0//EN
CALSCALE:GREGORIAN
METHOD:PUBLISH
X-WR-CALNAME:Pražský šachový svaz
X-ORIGINAL-URL:https://prazskysach.cz
X-WR-CALDESC:Events for Pražský šachový svaz
BEGIN:VEVENT
DTSTART;TZID=Europe/Prague:20221022T090000
DTEND;TZID=Europe/Prague:20221022T140000
DTSTAMP:20260420T200937
CREATED:20221016T153230Z
LAST-MODIFIED:20221016T153230Z
UID:10892-1666429200-1666447200@prazskysach.cz
SUMMARY:PORG OPEN
DESCRIPTION:Seriál otevřených turnajů v rapid šachu pro mládež nar. v roce 2002 a mladší pořádaný Šachový klubem Dopravní podnik Praha z.s. ve spolupráci a za podpory PORG – gymnázium a základní škola o.p.s.  Stránky turnaje a Propozice \n
URL:https://prazskysach.cz/kalendar/porg-open-28/
LOCATION:Pod Krčským lesem 1300/25\, Praha 4\, Hlavní město Praha\, 142 00\, Česká republika
CATEGORIES:Turnaje
ORGANIZER;CN="%C5%A0K%20Dopravn%C3%AD%20podnik%20Praha":MAILTO:ruzena.pribylova@gmail.com
END:VEVENT
BEGIN:VEVENT
DTSTART;TZID=UTC+1:20221022T093000
DTEND;TZID=UTC+1:20221022T170000
DTSTAMP:20260420T200937
CREATED:20221005T180515Z
LAST-MODIFIED:20221005T190038Z
UID:10816-1666431000-1666458000@prazskysach.cz
SUMMARY:O slánský helm
DESCRIPTION:Otevřený šachový turnaj pro mládeže. \nPropozice ZDE. \n
URL:https://prazskysach.cz/kalendar/o-slansky-helm/
LOCATION:Na Sadech 1238\, Slaný\, Hlavní město Praha\, Česká republika
CATEGORIES:Turnaje
END:VEVENT
END:VCALENDAR