BEGIN:VCALENDAR
VERSION:2.0
PRODID:-//Pražský šachový svaz - ECPv4.5.13//NONSGML v1.0//EN
CALSCALE:GREGORIAN
METHOD:PUBLISH
X-WR-CALNAME:Pražský šachový svaz
X-ORIGINAL-URL:https://prazskysach.cz
X-WR-CALDESC:Events for Pražský šachový svaz
BEGIN:VEVENT
DTSTART;TZID=Europe/Prague:20221203T083000
DTEND;TZID=Europe/Prague:20221203T173000
DTSTAMP:20260420T172237
CREATED:20221016T150609Z
LAST-MODIFIED:20221029T173312Z
UID:10888-1670056200-1670088600@prazskysach.cz
SUMMARY:Mikulášská šachová nadílka
DESCRIPTION:Turnaj v rapid šachu pro mládež do 18-ti let. \nPropozice ZDE. \n
URL:https://prazskysach.cz/kalendar/mikulasska-sachova-nadilka-4/
LOCATION:Štefánikova 13\, Praha 5\, Hlavní město Praha\, 150 00\, Česká republika
CATEGORIES:Turnaje
END:VEVENT
BEGIN:VEVENT
DTSTART;TZID=Europe/Prague:20221203T133000
DTEND;TZID=Europe/Prague:20221203T180000
DTSTAMP:20260420T172237
CREATED:20220918T185240Z
LAST-MODIFIED:20220918T185240Z
UID:10796-1670074200-1670090400@prazskysach.cz
SUMMARY:Kobyliský rapid
DESCRIPTION:Seriál turnajů v rapidu pořádaný šachovým oddílem TJ Kobylisy. Propozice ZDE \n
URL:https://prazskysach.cz/kalendar/kobylisky-rapid-52/
LOCATION:U Školské zahrady 430/9\, Praha 8-Kobylisy\, Hlavní město Praha\, Česká republika
CATEGORIES:Turnaje
END:VEVENT
BEGIN:VEVENT
DTSTART;TZID=Europe/Prague:20221203T140000
DTEND;TZID=Europe/Prague:20221203T190000
DTSTAMP:20260420T172237
CREATED:20221016T143300Z
LAST-MODIFIED:20221016T143300Z
UID:10840-1670076000-1670094000@prazskysach.cz
SUMMARY:Extraliga - 3. kolo
DESCRIPTION:Nejvyšší šachová soutěž družstev v ČR.\nOdkaz na výsledky a rozpis soutěže. \n
URL:https://prazskysach.cz/kalendar/extraliga-3-kolo-6/
LOCATION:Hlavní město Praha
CATEGORIES:Turnaje
ORGANIZER;CN="%C5%A0achov%C3%BD%20svaz%20%C4%8Cesk%C3%A9%20republiky":MAILTO:sekretariat@chess.cz
END:VEVENT
END:VCALENDAR