BEGIN:VCALENDAR
VERSION:2.0
PRODID:-//Pražský šachový svaz - ECPv4.5.13//NONSGML v1.0//EN
CALSCALE:GREGORIAN
METHOD:PUBLISH
X-WR-CALNAME:Pražský šachový svaz
X-ORIGINAL-URL:https://prazskysach.cz
X-WR-CALDESC:Events for Pražský šachový svaz
BEGIN:VEVENT
DTSTART;TZID=UTC+1:20230107T100000
DTEND;TZID=UTC+1:20230107T170000
DTSTAMP:20260420T155842
CREATED:20230101T233829Z
LAST-MODIFIED:20230107T181911Z
UID:11014-1673085600-1673110800@prazskysach.cz
SUMMARY:Školení rozhodčích - ZRUŠENO
DESCRIPTION:ZRUŠENO pro malý počet účastníků. \nKR PŠS pořádá\nŠkolení rozhodčích 3. třídy\na\nSeminář rozhodčích 2. a 3. třídy \nDetaily školení ZDE. \n  \n
URL:https://prazskysach.cz/kalendar/skoleni-rozhodcich-5/
LOCATION:Jeremenkova 106\, Praha\, Hlavní město Praha\, 14053\, Česká republika
CATEGORIES:Školení
END:VEVENT
BEGIN:VEVENT
DTSTART;TZID=Europe/Prague:20230107T140000
DTEND;TZID=Europe/Prague:20230107T190000
DTSTAMP:20260420T155842
CREATED:20221016T143300Z
LAST-MODIFIED:20221016T143300Z
UID:10842-1673100000-1673118000@prazskysach.cz
SUMMARY:Extraliga - 5. kolo
DESCRIPTION:Nejvyšší šachová soutěž družstev v ČR.\nOdkaz na výsledky a rozpis soutěže. \n
URL:https://prazskysach.cz/kalendar/extraliga-5-kolo-6/
LOCATION:Hlavní město Praha
CATEGORIES:Turnaje
ORGANIZER;CN="%C5%A0achov%C3%BD%20svaz%20%C4%8Cesk%C3%A9%20republiky":MAILTO:sekretariat@chess.cz
END:VEVENT
END:VCALENDAR