BEGIN:VCALENDAR
VERSION:2.0
PRODID:-//Pražský šachový svaz - ECPv4.5.13//NONSGML v1.0//EN
CALSCALE:GREGORIAN
METHOD:PUBLISH
X-WR-CALNAME:Pražský šachový svaz
X-ORIGINAL-URL:https://prazskysach.cz
X-WR-CALDESC:Events for Pražský šachový svaz
BEGIN:VEVENT
DTSTART;VALUE=DATE:20230121
DTEND;VALUE=DATE:20230121
DTSTAMP:20260420T155756
CREATED:20221016T175633Z
LAST-MODIFIED:20221016T175633Z
UID:10915-1674259200-1674345599@prazskysach.cz
SUMMARY:Přebor Prahy družstev mládeže
DESCRIPTION:Přebor Prahy družstev starších žáků. Detailní informace jsou k dispozici na stránkách PŠS v sekci   Mládež/Družstva . Přebor (Skupina A) je kvalifikací pro postup do 1. ligy mládeže. \n
URL:https://prazskysach.cz/kalendar/prebor-prahy-druzstev-mladeze-2/
CATEGORIES:Turnaje
END:VEVENT
BEGIN:VEVENT
DTSTART;TZID=Europe/Prague:20230121T090000
DTEND;TZID=Europe/Prague:20230121T140000
DTSTAMP:20260420T155756
CREATED:20221016T153231Z
LAST-MODIFIED:20221016T153231Z
UID:10894-1674291600-1674309600@prazskysach.cz
SUMMARY:PORG OPEN
DESCRIPTION:Seriál otevřených turnajů v rapid šachu pro mládež nar. v roce 2003 a mladší pořádaný Šachový klubem Dopravní podnik Praha z.s. ve spolupráci a za podpory PORG – gymnázium a základní škola o.p.s.  Stránky turnaje a Propozice \n
URL:https://prazskysach.cz/kalendar/porg-open-30/
LOCATION:Pod Krčským lesem 1300/25\, Praha 4\, Hlavní město Praha\, 142 00\, Česká republika
CATEGORIES:Turnaje
ORGANIZER;CN="%C5%A0K%20Dopravn%C3%AD%20podnik%20Praha":MAILTO:ruzena.pribylova@gmail.com
END:VEVENT
END:VCALENDAR