BEGIN:VCALENDAR
VERSION:2.0
PRODID:-//Pražský šachový svaz - ECPv4.5.13//NONSGML v1.0//EN
CALSCALE:GREGORIAN
METHOD:PUBLISH
X-WR-CALNAME:Pražský šachový svaz
X-ORIGINAL-URL:https://prazskysach.cz
X-WR-CALDESC:Events for Pražský šachový svaz
BEGIN:VEVENT
DTSTART;VALUE=DATE:20230325
DTEND;VALUE=DATE:20230325
DTSTAMP:20260420T132155
CREATED:20230129T221447Z
LAST-MODIFIED:20230218T222521Z
UID:11061-1679702400-1679788799@prazskysach.cz
SUMMARY:Přebor jednotlivců v rapid šachu do 14 let
DESCRIPTION:Propozice ZDE.  \n
URL:https://prazskysach.cz/kalendar/prebor-jednotlivcu-v-rapid-sachu-do-14-let/
LOCATION:U staré cihelny 2182/11\, Praha 3\, Hlavní město Praha\, 130 00\, Česká republika
CATEGORIES:Turnaje
END:VEVENT
BEGIN:VEVENT
DTSTART;TZID=Europe/Prague:20230325T140000
DTEND;TZID=Europe/Prague:20230325T150000
DTSTAMP:20260420T132155
CREATED:20221016T143305Z
LAST-MODIFIED:20221016T143305Z
UID:10847-1679752800-1679756400@prazskysach.cz
SUMMARY:Extraliga - 10. kolo
DESCRIPTION:Nejvyšší šachová soutěž družstev v ČR.\nOdkaz na výsledky a rozpis soutěže. \n
URL:https://prazskysach.cz/kalendar/extraliga-10-kolo-6/
LOCATION:Hlavní město Praha
CATEGORIES:Turnaje
ORGANIZER;CN="%C5%A0achov%C3%BD%20svaz%20%C4%8Cesk%C3%A9%20republiky":MAILTO:sekretariat@chess.cz
END:VEVENT
END:VCALENDAR