BEGIN:VCALENDAR
VERSION:2.0
PRODID:-//Pražský šachový svaz - ECPv4.5.13//NONSGML v1.0//EN
CALSCALE:GREGORIAN
METHOD:PUBLISH
X-WR-CALNAME:Pražský šachový svaz
X-ORIGINAL-URL:https://prazskysach.cz
X-WR-CALDESC:Events for Pražský šachový svaz
BEGIN:VEVENT
DTSTART;TZID=UTC+1:20230514T120000
DTEND;TZID=UTC+1:20230514T170000
DTSTAMP:20260420T095301
CREATED:20230506T135251Z
LAST-MODIFIED:20230506T140426Z
UID:11205-1684065600-1684083600@prazskysach.cz
SUMMARY:Turnaj od Chess Queen
DESCRIPTION:Vážení šachoví přátelé\, \nNový pražský šachový klub „Šachová Kralovna“ zve  šachisty na první otevřený šachový turnaj 14.05.2023 v 12:00 \nNa vítěze turnaje čekají diplomy\, medaile\, ceny a poháry. \nPropozice a další informace ZDE. \nS pozdravem\,\nŘeditelka šachového klubu\nZhazira Suraubay\n+420 608 399 816\, https://chessqueen.cz/ \nAdresa: Politických vězňů 911/8\, Praha 1 (2 patro) \n
URL:https://prazskysach.cz/kalendar/turnaj-od-chess-queen/
LOCATION:Politických vězňů 911/8\, Praha 1\, Česká republika
CATEGORIES:Turnaje
ORGANIZER;CN="Chess%20Queen":MAILTO:zhazirasuraubay@gmail.com
END:VEVENT
BEGIN:VEVENT
DTSTART;TZID=Europe/Prague:20230514T133000
DTEND;TZID=Europe/Prague:20230514T180000
DTSTAMP:20260420T095301
CREATED:20220918T185246Z
LAST-MODIFIED:20220918T185246Z
UID:10807-1684071000-1684087200@prazskysach.cz
SUMMARY:Kobyliský koník
DESCRIPTION:Seriál rapid turnajů pro mládež (nar. 2005 a mladší) pořádaný šachovým oddílem TJ Kobylisy. Propozice ZDE \n
URL:https://prazskysach.cz/kalendar/kobylisky-konik-25/
LOCATION:U Školské zahrady 430/9\, Praha 8-Kobylisy\, Hlavní město Praha\, Česká republika
CATEGORIES:Turnaje
END:VEVENT
END:VCALENDAR