BEGIN:VCALENDAR
VERSION:2.0
PRODID:-//Pražský šachový svaz - ECPv4.5.13//NONSGML v1.0//EN
CALSCALE:GREGORIAN
METHOD:PUBLISH
X-WR-CALNAME:Pražský šachový svaz
X-ORIGINAL-URL:https://prazskysach.cz
X-WR-CALDESC:Events for Pražský šachový svaz
BEGIN:VEVENT
DTSTART;TZID=UTC+1:20230604T090000
DTEND;TZID=UTC+1:20230604T173000
DTSTAMP:20260420T082632
CREATED:20230517T182532Z
LAST-MODIFIED:20230517T182532Z
UID:11253-1685869200-1685899800@prazskysach.cz
SUMMARY:Smíšené dvojice
DESCRIPTION:2. ročník turnaje\nSMÍŠENÝCH DVOJIC\nneděle 4. června 2023\nKde: Bowling Brno\, Líšeňská 80\nTempo hry: 2x 10 minut + 5 vteřin / tah \nPROPOZICE \n
URL:https://prazskysach.cz/kalendar/smisene-dvojice/
LOCATION:Líšeňská 80\, Brno\, Česká republika
CATEGORIES:Turnaje
END:VEVENT
BEGIN:VEVENT
DTSTART;TZID=UTC+1:20230604T100000
DTEND;TZID=UTC+1:20230604T140000
DTSTAMP:20260420T082632
CREATED:20230510T081355Z
LAST-MODIFIED:20230510T081355Z
UID:11220-1685872800-1685887200@prazskysach.cz
SUMMARY:Molekula Open
DESCRIPTION:Šachový klub SK Molekula\npořádá závěrečný šachový turnaj v rapid šachu s národním ELO do 1400 zápočtem na rapid elo ČR. \n  \nPropozice ZDE. \n
URL:https://prazskysach.cz/kalendar/molekula-open/
LOCATION:Mánesova 88\, Praha 2\, Česká republika
CATEGORIES:Turnaje
ORGANIZER;CN="SK%20Molekula":MAILTO:edu.karapetyan@gmail.com
END:VEVENT
END:VCALENDAR