BEGIN:VCALENDAR
VERSION:2.0
PRODID:-//Pražský šachový svaz - ECPv4.5.13//NONSGML v1.0//EN
CALSCALE:GREGORIAN
METHOD:PUBLISH
X-WR-CALNAME:Pražský šachový svaz
X-ORIGINAL-URL:https://prazskysach.cz
X-WR-CALDESC:Events for Pražský šachový svaz
BEGIN:VEVENT
DTSTART;VALUE=DATE:20230620
DTEND;VALUE=DATE:20230630
DTSTAMP:20260420T083426
CREATED:20230528T111126Z
LAST-MODIFIED:20230528T111253Z
UID:11265-1687219200-1688169599@prazskysach.cz
SUMMARY:Prague international chess festival
DESCRIPTION:Detaily akce na tomto odkazu. \n
URL:https://prazskysach.cz/kalendar/prague-international-chess-festival-2/
LOCATION:Vinohradská 157a\, Praha 3\, Hlavní město Praha\, 130 20\, Česká republika
CATEGORIES:Přednáška,Turnaje
END:VEVENT
BEGIN:VEVENT
DTSTART;TZID=UTC+1:20230624T090000
DTEND;TZID=UTC+1:20230624T150000
DTSTAMP:20260420T083426
CREATED:20230517T141430Z
LAST-MODIFIED:20230517T141823Z
UID:11242-1687597200-1687618800@prazskysach.cz
SUMMARY:Zlatá Praha Junior Open
DESCRIPTION:Zlatá Praha Junior Open 2023 – propozice (chess-academy.cz) \nPřihláška do turnaje (google.com) \n  \n
URL:https://prazskysach.cz/kalendar/zlata-praha-junior-open-5/
LOCATION:Karlínské náměstí 7\, Praha\, Hlavní město Praha\, Česká republika
CATEGORIES:Turnaje
END:VEVENT
END:VCALENDAR