BEGIN:VCALENDAR
VERSION:2.0
PRODID:-//Pražský šachový svaz - ECPv4.5.13//NONSGML v1.0//EN
CALSCALE:GREGORIAN
METHOD:PUBLISH
X-WR-CALNAME:Pražský šachový svaz
X-ORIGINAL-URL:https://prazskysach.cz
X-WR-CALDESC:Events for Pražský šachový svaz
BEGIN:VEVENT
DTSTART;VALUE=DATE:20230713
DTEND;VALUE=DATE:20230730
DTSTAMP:20260420T065335
CREATED:20230709T162654Z
LAST-MODIFIED:20230709T162654Z
UID:11407-1689206400-1690761599@prazskysach.cz
SUMMARY:Festival Czech Open Pardubice
DESCRIPTION:Festival šachových turnajů. Více na  stránkách pořadatele.. \n
URL:https://prazskysach.cz/kalendar/festival-czech-open-pardubice/
CATEGORIES:Turnaje
END:VEVENT
BEGIN:VEVENT
DTSTART;TZID=Europe/Prague:20230721T190000
DTEND;TZID=Europe/Prague:20230721T210000
DTSTAMP:20260420T065335
CREATED:20230415T104920Z
LAST-MODIFIED:20230415T104920Z
UID:11172-1689966000-1689973200@prazskysach.cz
SUMMARY:Bleskový turnaj Bohemians
DESCRIPTION:O bohemácký ručník 2023 (X. ročník). Seriál otevřených bleskových turnajů pořádaný oddílem Bohemians. Propozice  ZDE \n
URL:https://prazskysach.cz/kalendar/bleskovy-turnaj-bohemians-49/
LOCATION:Slovenská 2\, Praha 10\, Hlavní město Praha\, 101 00\, Česká republika
CATEGORIES:Turnaje
END:VEVENT
END:VCALENDAR