BEGIN:VCALENDAR
VERSION:2.0
PRODID:-//Pražský šachový svaz - ECPv4.5.13//NONSGML v1.0//EN
CALSCALE:GREGORIAN
METHOD:PUBLISH
X-WR-CALNAME:Pražský šachový svaz
X-ORIGINAL-URL:https://prazskysach.cz
X-WR-CALDESC:Events for Pražský šachový svaz
BEGIN:VEVENT
DTSTART;TZID=UTC+1:20230911T180000
DTEND;TZID=UTC+1:20230911T210000
DTSTAMP:20260420T035228
CREATED:20230723T181711Z
LAST-MODIFIED:20230723T181711Z
UID:11419-1694455200-1694466000@prazskysach.cz
SUMMARY:Konference PŠS
DESCRIPTION:Konference \n \n  \n
URL:https://prazskysach.cz/kalendar/konference-pss-6/
LOCATION:Jeremenkova 106\, Praha\, Hlavní město Praha\, 14053\, Česká republika
END:VEVENT
END:VCALENDAR