BEGIN:VCALENDAR
VERSION:2.0
PRODID:-//Pražský šachový svaz - ECPv4.5.13//NONSGML v1.0//EN
CALSCALE:GREGORIAN
METHOD:PUBLISH
X-WR-CALNAME:Pražský šachový svaz
X-ORIGINAL-URL:https://prazskysach.cz
X-WR-CALDESC:Events for Pražský šachový svaz
BEGIN:VEVENT
DTSTART;VALUE=DATE:20231007
DTEND;VALUE=DATE:20231007
DTSTAMP:20260420T020706
CREATED:20230709T153600Z
LAST-MODIFIED:20230924T201403Z
UID:11390-1696636800-1696723199@prazskysach.cz
SUMMARY:Přebor Prahy družstev mládeže - kvalifikace
DESCRIPTION:Přebor Prahy družstev starších žáků – KVALIFIKACE. Detailní informace naleznete po jejich zveřejnění na stránkách PŠS v sekci  Mládež/Družstva . Přebor (Skupina A) je kvalifikací pro postup do 1. ligy mládeže. \nPropozice kvalifikace \nFormulář přihlášky \nFormulář soupisky \n
URL:https://prazskysach.cz/kalendar/prebor-prahy-druzstev-mladeze-kvalifikace/
CATEGORIES:Turnaje
END:VEVENT
END:VCALENDAR