BEGIN:VCALENDAR
VERSION:2.0
PRODID:-//Pražský šachový svaz - ECPv4.5.13//NONSGML v1.0//EN
CALSCALE:GREGORIAN
METHOD:PUBLISH
X-WR-CALNAME:Pražský šachový svaz
X-ORIGINAL-URL:https://prazskysach.cz
X-WR-CALDESC:Events for Pražský šachový svaz
BEGIN:VEVENT
DTSTART;VALUE=DATE:20231021
DTEND;VALUE=DATE:20231028
DTSTAMP:20260420T021458
CREATED:20230709T160745Z
LAST-MODIFIED:20230709T160745Z
UID:11398-1697846400-1698537599@prazskysach.cz
SUMMARY:Mistrovství Čech mládeže
DESCRIPTION:Turnaj pořádaný ŠSČR. Více na  stránkách ŠSČR.. \n
URL:https://prazskysach.cz/kalendar/mistrovstvi-cech-mladeze/
CATEGORIES:Turnaje
ORGANIZER;CN="%C5%A0achov%C3%BD%20svaz%20%C4%8Cesk%C3%A9%20republiky":MAILTO:sekretariat@chess.cz
END:VEVENT
BEGIN:VEVENT
DTSTART;TZID=Europe/Prague:20231021T133000
DTEND;TZID=Europe/Prague:20231021T180000
DTSTAMP:20260420T021458
CREATED:20230819T150845Z
LAST-MODIFIED:20230819T150845Z
UID:11465-1697895000-1697911200@prazskysach.cz
SUMMARY:Kobyliský rapid
DESCRIPTION:Seriál turnajů v rapidu pořádaný šachovým oddílem TJ Kobylisy. Propozice ZDE \n
URL:https://prazskysach.cz/kalendar/kobylisky-rapid-60/
LOCATION:U Školské zahrady 430/9\, Praha 8-Kobylisy\, Hlavní město Praha\, Česká republika
CATEGORIES:Turnaje
END:VEVENT
END:VCALENDAR