BEGIN:VCALENDAR
VERSION:2.0
PRODID:-//Pražský šachový svaz - ECPv4.5.13//NONSGML v1.0//EN
CALSCALE:GREGORIAN
METHOD:PUBLISH
X-WR-CALNAME:Pražský šachový svaz
X-ORIGINAL-URL:https://prazskysach.cz
X-WR-CALDESC:Events for Pražský šachový svaz
BEGIN:VEVENT
DTSTART;TZID=UTC+1:20231104T090000
DTEND;TZID=UTC+1:20231104T153000
DTSTAMP:20260420T004727
CREATED:20221220T213009Z
LAST-MODIFIED:20230212T174616Z
UID:11008-1699088400-1699111800@prazskysach.cz
SUMMARY:OAZA AKROP OPEN 2023 - 5. turnaj
DESCRIPTION:v rapid šachu do 14 let se zápočtem na rapid elo ČR. \nPropozice naleznete ZDE: OAZA_AKROP_OPEN_2023 \n
URL:https://prazskysach.cz/kalendar/oaza-akrop-open-2023-5-turnaj/
CATEGORIES:Turnaje
END:VEVENT
BEGIN:VEVENT
DTSTART;TZID=UTC+1:20231104T090000
DTEND;TZID=UTC+1:20231104T170000
DTSTAMP:20260420T004727
CREATED:20230916T160746Z
LAST-MODIFIED:20230916T160746Z
UID:11528-1699088400-1699117200@prazskysach.cz
SUMMARY:Memoriál generála Hradila
DESCRIPTION:Unie armádních sportovních klubů a šachový oddíl TJ DUKLA Praha\nve spolupráci s Městskou částí Praha 6 pořádají\n10. ročník\n„Memoriálu generála Jaroslava Hradila“ \nPROPOZICE ZDE \n
URL:https://prazskysach.cz/kalendar/memorial-generala-hradila-3/
LOCATION:Pod Juliskou 7\, Praha\, Hlavní město Praha\, Česká republika
CATEGORIES:Turnaje
ORGANIZER;CN="%C5%A0achov%C3%BD%20odd%C3%ADl%20TJ%20DUKLA%20Praha":MAILTO:poradim64@gmail.com
END:VEVENT
END:VCALENDAR