BEGIN:VCALENDAR
VERSION:2.0
PRODID:-//Pražský šachový svaz - ECPv4.5.13//NONSGML v1.0//EN
CALSCALE:GREGORIAN
METHOD:PUBLISH
X-WR-CALNAME:Pražský šachový svaz
X-ORIGINAL-URL:https://prazskysach.cz
X-WR-CALDESC:Events for Pražský šachový svaz
BEGIN:VEVENT
DTSTART;VALUE=DATE:20231111
DTEND;VALUE=DATE:20231118
DTSTAMP:20260420T010510
CREATED:20230709T160739Z
LAST-MODIFIED:20230709T160739Z
UID:11393-1699660800-1700351999@prazskysach.cz
SUMMARY:Polofinále U18 a U20
DESCRIPTION:Polofinále MČR juniorů a dorostenců H18+20 a D18+20. Detailní informace jsou k dispozici na stránkách ŠSČR  na tomto odkazu.. \n
URL:https://prazskysach.cz/kalendar/polofinale-u18-a-u20/
CATEGORIES:Turnaje
ORGANIZER;CN="%C5%A0achov%C3%BD%20svaz%20%C4%8Cesk%C3%A9%20republiky":MAILTO:sekretariat@chess.cz
END:VEVENT
BEGIN:VEVENT
DTSTART;TZID=Europe/Prague:20231111T083000
DTEND;TZID=Europe/Prague:20231111T173000
DTSTAMP:20260420T010510
CREATED:20230709T152652Z
LAST-MODIFIED:20230909T213522Z
UID:11384-1699691400-1699723800@prazskysach.cz
SUMMARY:Memoriál Jana Weisgraba
DESCRIPTION:Turnaj v rapid šachu pro mládež do 18-ti let. \nPropozice ZDE. \n
URL:https://prazskysach.cz/kalendar/memorial-jana-weisgraba-5/
LOCATION:Štefánikova 13\, Praha 5\, Hlavní město Praha\, 150 00\, Česká republika
CATEGORIES:Turnaje
END:VEVENT
BEGIN:VEVENT
DTSTART;TZID=Europe/Prague:20231111T090000
DTEND;TZID=Europe/Prague:20231111T140000
DTSTAMP:20260420T010510
CREATED:20231112T181732Z
LAST-MODIFIED:20231112T181732Z
UID:11594-1699693200-1699711200@prazskysach.cz
SUMMARY:PORG OPEN
DESCRIPTION:Seriál otevřených turnajů v rapid šachu pro mládež do 20 let pořádaný Šachový klubem Dopravní podnik Praha z.s. ve spolupráci a za podpory PORG – gymnázium a základní škola o.p.s.  Stránky turnaje  \n
URL:https://prazskysach.cz/kalendar/porg-open-35/
LOCATION:Pod Krčským lesem 1300/25\, Praha 4\, Hlavní město Praha\, 142 00\, Česká republika
CATEGORIES:Turnaje
ORGANIZER;CN="%C5%A0K%20Dopravn%C3%AD%20podnik%20Praha":MAILTO:ruzena.pribylova@gmail.com
END:VEVENT
BEGIN:VEVENT
DTSTART;TZID=UTC+1:20231111T100000
DTEND;TZID=UTC+1:20231111T193000
DTSTAMP:20260420T010510
CREATED:20231009T201244Z
LAST-MODIFIED:20231009T201244Z
UID:11568-1699696800-1699731000@prazskysach.cz
SUMMARY:Školení rozhodčích
DESCRIPTION:Propozice ZDE. \n
URL:https://prazskysach.cz/kalendar/skoleni-rozhodcich-6/
LOCATION:U Školské zahrady 430/9\, Praha 8-Kobylisy\, Hlavní město Praha\, Česká republika
CATEGORIES:Školení
END:VEVENT
END:VCALENDAR