BEGIN:VCALENDAR
VERSION:2.0
PRODID:-//Pražský šachový svaz - ECPv4.5.13//NONSGML v1.0//EN
CALSCALE:GREGORIAN
METHOD:PUBLISH
X-WR-CALNAME:Pražský šachový svaz
X-ORIGINAL-URL:https://prazskysach.cz
X-WR-CALDESC:Events for Pražský šachový svaz
BEGIN:VEVENT
DTSTART;VALUE=DATE:20231111
DTEND;VALUE=DATE:20231118
DTSTAMP:20260420T010419
CREATED:20230709T160739Z
LAST-MODIFIED:20230709T160739Z
UID:11393-1699660800-1700351999@prazskysach.cz
SUMMARY:Polofinále U18 a U20
DESCRIPTION:Polofinále MČR juniorů a dorostenců H18+20 a D18+20. Detailní informace jsou k dispozici na stránkách ŠSČR  na tomto odkazu.. \n
URL:https://prazskysach.cz/kalendar/polofinale-u18-a-u20/
CATEGORIES:Turnaje
ORGANIZER;CN="%C5%A0achov%C3%BD%20svaz%20%C4%8Cesk%C3%A9%20republiky":MAILTO:sekretariat@chess.cz
END:VEVENT
BEGIN:VEVENT
DTSTART;TZID=Europe/Prague:20231112T100000
DTEND;TZID=Europe/Prague:20231112T150000
DTSTAMP:20260420T010419
CREATED:20230709T151842Z
LAST-MODIFIED:20230709T151842Z
UID:11339-1699783200-1699801200@prazskysach.cz
SUMMARY:I. liga - 2.kolo
DESCRIPTION:1. liga družstev  – dospělých. Skupina východ a západ. Každá skupina má 12 družstev. V tento termín se tedy hraje na 12 (2×6) místech. Odkaz na přehled ligových soutěží. \n
URL:https://prazskysach.cz/kalendar/i-liga-2-kolo-5/
CATEGORIES:Turnaje
ORGANIZER;CN="%C5%A0achov%C3%BD%20svaz%20%C4%8Cesk%C3%A9%20republiky":MAILTO:sekretariat@chess.cz
END:VEVENT
END:VCALENDAR