BEGIN:VCALENDAR
VERSION:2.0
PRODID:-//Pražský šachový svaz - ECPv4.5.13//NONSGML v1.0//EN
CALSCALE:GREGORIAN
METHOD:PUBLISH
X-WR-CALNAME:Pražský šachový svaz
X-ORIGINAL-URL:https://prazskysach.cz
X-WR-CALDESC:Events for Pražský šachový svaz
BEGIN:VEVENT
DTSTART;TZID=Europe/Prague:20231124T180000
DTEND;TZID=Europe/Prague:20231124T200000
DTSTAMP:20260420T010153
CREATED:20230819T150836Z
LAST-MODIFIED:20230819T150836Z
UID:11451-1700848800-1700856000@prazskysach.cz
SUMMARY:Sudý pátek
DESCRIPTION:Seriál pátečních bleskových turnajů pořádaný šachovým oddílem TJ Kobylisy. Propozice ZDE \n
URL:https://prazskysach.cz/kalendar/sudy-patek-113/
LOCATION:U Školské zahrady 430/9\, Praha 8-Kobylisy\, Hlavní město Praha\, Česká republika
CATEGORIES:Turnaje
END:VEVENT
BEGIN:VEVENT
DTSTART;TZID=Europe/Prague:20231124T190000
DTEND;TZID=Europe/Prague:20231124T210000
DTSTAMP:20260420T010153
CREATED:20230415T104924Z
LAST-MODIFIED:20230415T104924Z
UID:11176-1700852400-1700859600@prazskysach.cz
SUMMARY:Bleskový turnaj Bohemians
DESCRIPTION:O bohemácký ručník 2023 (X. ročník). Seriál otevřených bleskových turnajů pořádaný oddílem Bohemians. Propozice  ZDE \n
URL:https://prazskysach.cz/kalendar/bleskovy-turnaj-bohemians-53/
LOCATION:Slovenská 2\, Praha 10\, Hlavní město Praha\, 101 00\, Česká republika
CATEGORIES:Turnaje
END:VEVENT
END:VCALENDAR