BEGIN:VCALENDAR
VERSION:2.0
PRODID:-//Pražský šachový svaz - ECPv4.5.13//NONSGML v1.0//EN
CALSCALE:GREGORIAN
METHOD:PUBLISH
X-WR-CALNAME:Pražský šachový svaz
X-ORIGINAL-URL:https://prazskysach.cz
X-WR-CALDESC:Events for Pražský šachový svaz
BEGIN:VEVENT
DTSTART;VALUE=DATE:20231202
DTEND;VALUE=DATE:20231202
DTSTAMP:20260419T232217
CREATED:20230709T152149Z
LAST-MODIFIED:20230709T152149Z
UID:11368-1701475200-1701561599@prazskysach.cz
SUMMARY:Přebor Prahy družstev mládeže
DESCRIPTION:Přebor Prahy družstev starších žáků. Detailní informace naleznete po jejich zveřejnění  na stránkách PŠS v sekci   Mládež/Družstva . Přebor (Skupina A) je kvalifikací pro postup do 1. ligy mládeže. \n
URL:https://prazskysach.cz/kalendar/prebor-prahy-druzstev-mladeze-6/
CATEGORIES:Turnaje
END:VEVENT
BEGIN:VEVENT
DTSTART;TZID=UTC+1:20231202T090000
DTEND;TZID=UTC+1:20231202T163000
DTSTAMP:20260419T232217
CREATED:20230930T154922Z
LAST-MODIFIED:20230930T154922Z
UID:11560-1701507600-1701534600@prazskysach.cz
SUMMARY:Zimní rapid
DESCRIPTION:1. Ročník pražského zimního rapid turnaje 2023 \nOdkaz na propozice: ZDE \nOdkaz na přihlášky: ZDE \n
URL:https://prazskysach.cz/kalendar/zimni-rapid/
LOCATION:U staré cihelny 2182/11\, Praha 3\, Hlavní město Praha\, 130 00\, Česká republika
CATEGORIES:Turnaje
END:VEVENT
END:VCALENDAR