BEGIN:VCALENDAR
VERSION:2.0
PRODID:-//Pražský šachový svaz - ECPv4.5.13//NONSGML v1.0//EN
CALSCALE:GREGORIAN
METHOD:PUBLISH
X-WR-CALNAME:Pražský šachový svaz
X-ORIGINAL-URL:https://prazskysach.cz
X-WR-CALDESC:Events for Pražský šachový svaz
BEGIN:VEVENT
DTSTART;TZID=UTC+1:20231208T160000
DTEND;TZID=UTC+1:20231208T220000
DTSTAMP:20260419T231518
CREATED:20231208T093455Z
LAST-MODIFIED:20231208T093455Z
UID:11661-1702051200-1702072800@prazskysach.cz
SUMMARY:Otevření šachové kavárny
DESCRIPTION:Slavnostní otevření šachové Kavárny Gambit \nPozvánka zde. \n
URL:https://prazskysach.cz/kalendar/otevreni-sachove-kavarny/
CATEGORIES:Propagace
END:VEVENT
BEGIN:VEVENT
DTSTART;TZID=Europe/Prague:20231208T180000
DTEND;TZID=Europe/Prague:20231208T200000
DTSTAMP:20260419T231518
CREATED:20230819T150836Z
LAST-MODIFIED:20230819T150836Z
UID:11452-1702058400-1702065600@prazskysach.cz
SUMMARY:Sudý pátek
DESCRIPTION:Seriál pátečních bleskových turnajů pořádaný šachovým oddílem TJ Kobylisy. Propozice ZDE \n
URL:https://prazskysach.cz/kalendar/sudy-patek-114/
LOCATION:U Školské zahrady 430/9\, Praha 8-Kobylisy\, Hlavní město Praha\, Česká republika
CATEGORIES:Turnaje
END:VEVENT
END:VCALENDAR