BEGIN:VCALENDAR
VERSION:2.0
PRODID:-//Pražský šachový svaz - ECPv4.5.13//NONSGML v1.0//EN
CALSCALE:GREGORIAN
METHOD:PUBLISH
X-WR-CALNAME:Pražský šachový svaz
X-ORIGINAL-URL:https://prazskysach.cz
X-WR-CALDESC:Events for Pražský šachový svaz
BEGIN:VEVENT
DTSTART;TZID=Europe/Prague:20240106T090000
DTEND;TZID=Europe/Prague:20240106T140000
DTSTAMP:20260419T214214
CREATED:20231112T181734Z
LAST-MODIFIED:20231203T181822Z
UID:11595-1704531600-1704549600@prazskysach.cz
SUMMARY:PORG OPEN
DESCRIPTION:Seriál otevřených turnajů v rapid šachu pro mládež do 20 let pořádaný Šachový klubem Dopravní podnik Praha z.s. ve spolupráci a za podpory PORG – gymnázium a základní škola o.p.s. Stránky turnaje \n
URL:https://prazskysach.cz/kalendar/porg-open-36/
LOCATION:Pod Krčským lesem 1300/25\, Praha 4\, Hlavní město Praha\, 142 00\, Česká republika
CATEGORIES:Turnaje
ORGANIZER;CN="%C5%A0K%20Dopravn%C3%AD%20podnik%20Praha":MAILTO:ruzena.pribylova@gmail.com
END:VEVENT
BEGIN:VEVENT
DTSTART;TZID=UTC+1:20240106T090000
DTEND;TZID=UTC+1:20240106T153000
DTSTAMP:20260419T214214
CREATED:20231201T145543Z
LAST-MODIFIED:20231203T192057Z
UID:11635-1704531600-1704555000@prazskysach.cz
SUMMARY:OAZA AKROP OPEN 2024 - 1. TURNAJ
DESCRIPTION:Propozice ZDE :OAZA_AKROP_OPEN_2024 \n
URL:https://prazskysach.cz/kalendar/oaza-akrop-open-2024-1-turnaj/
LOCATION:Jeremenkova 106\, Praha\, Hlavní město Praha\, 14053\, Česká republika
END:VEVENT
BEGIN:VEVENT
DTSTART;TZID=UTC+1:20240106T100000
DTEND;TZID=UTC+1:20240106T180000
DTSTAMP:20260419T214214
CREATED:20231203T104554Z
LAST-MODIFIED:20231203T104554Z
UID:11651-1704535200-1704564000@prazskysach.cz
SUMMARY:Školení rozhodčích
DESCRIPTION:KR PŠS pořádá\nŠkolení rozhodčích 3. třídy a Seminář rozhodčích 2. a 3. třídy \nDetaily ZDE. \n
URL:https://prazskysach.cz/kalendar/skoleni-rozhodcich-7/
LOCATION:Hlavní město Praha
CATEGORIES:Školení
END:VEVENT
END:VCALENDAR