BEGIN:VCALENDAR
VERSION:2.0
PRODID:-//Pražský šachový svaz - ECPv4.5.13//NONSGML v1.0//EN
CALSCALE:GREGORIAN
METHOD:PUBLISH
X-WR-CALNAME:Pražský šachový svaz
X-ORIGINAL-URL:https://prazskysach.cz
X-WR-CALDESC:Events for Pražský šachový svaz
BEGIN:VEVENT
DTSTART;TZID=Europe/Prague:20240217T090000
DTEND;TZID=Europe/Prague:20240217T140000
DTSTAMP:20260419T201225
CREATED:20231112T181735Z
LAST-MODIFIED:20231112T181735Z
UID:11597-1708160400-1708178400@prazskysach.cz
SUMMARY:PORG OPEN
DESCRIPTION:Seriál otevřených turnajů v rapid šachu pro mládež do 20 let pořádaný Šachový klubem Dopravní podnik Praha z.s. ve spolupráci a za podpory PORG – gymnázium a základní škola o.p.s.  Stránky turnaje  \n
URL:https://prazskysach.cz/kalendar/porg-open-38/
LOCATION:Pod Krčským lesem 1300/25\, Praha 4\, Hlavní město Praha\, 142 00\, Česká republika
CATEGORIES:Turnaje
ORGANIZER;CN="%C5%A0K%20Dopravn%C3%AD%20podnik%20Praha":MAILTO:ruzena.pribylova@gmail.com
END:VEVENT
BEGIN:VEVENT
DTSTART;TZID=UTC+1:20240217T093000
DTEND;TZID=UTC+1:20240217T150000
DTSTAMP:20260419T201225
CREATED:20240206T202436Z
LAST-MODIFIED:20240206T202436Z
UID:11742-1708162200-1708182000@prazskysach.cz
SUMMARY:III. Memoriál Janise Pataridise
DESCRIPTION:Vážení příznivci šachu\, \nzveme Vás na 3. ročník Memoriálu Janise Pataridise\, který se bude konat 17.2. v SK OAZA. \nPropozice naleznete ZDE: memorial_Janise_Pataridise_2024 \nStartovní listina ZDE \n
URL:https://prazskysach.cz/kalendar/iii-memorial-janise-pataridise/
LOCATION:Jeremenkova 106\, Praha\, Hlavní město Praha\, 14053\, Česká republika
END:VEVENT
END:VCALENDAR