BEGIN:VCALENDAR
VERSION:2.0
PRODID:-//Pražský šachový svaz - ECPv4.5.13//NONSGML v1.0//EN
CALSCALE:GREGORIAN
METHOD:PUBLISH
X-WR-CALNAME:Pražský šachový svaz
X-ORIGINAL-URL:https://prazskysach.cz
X-WR-CALDESC:Events for Pražský šachový svaz
BEGIN:VEVENT
DTSTART;TZID=UTC+1:20240224T090000
DTEND;TZID=UTC+1:20240224T153000
DTSTAMP:20260419T201255
CREATED:20231201T145833Z
LAST-MODIFIED:20240309T104110Z
UID:11637-1708765200-1708788600@prazskysach.cz
SUMMARY:OAZA AKROP OPEN 2024 - 2. TURNAJ
DESCRIPTION:Propozice ZDE: OAZA_AKROP_OPEN_2024 \n
URL:https://prazskysach.cz/kalendar/oaza-akrop-open-2024-2-turnaj/
LOCATION:Jeremenkova 106\, Praha\, Hlavní město Praha\, 14053\, Česká republika
END:VEVENT
BEGIN:VEVENT
DTSTART;TZID=UTC+1:20240224T100000
DTEND;TZID=UTC+1:20240224T140000
DTSTAMP:20260419T201255
CREATED:20240203T155015Z
LAST-MODIFIED:20240203T155313Z
UID:11729-1708768800-1708783200@prazskysach.cz
SUMMARY:VŠCHT Fide turnaj
DESCRIPTION:Šachový klub VŠCHT pořádá následující FIDE turnaj. \nRegistrace do FIDE turnaje viz registrační formulář – https://forms.gle/nZH9DZLDXyuKFzPL6 \nTempo hry BLITZ (5 minut + 5 sekund za tah) \nHrát se bude švýcarským způsobem\, a to na 6-8 kol (dle formátu a počtu účastníků – bude upřesněno před začátkem turnaje) \nVstupné do turnaje je 40 Kč / 2 EUR \nDrobné občerstvení zajištěno přímo v místnosti\, k dispozici kávovar a automaty na pití\, jídlo i kávu \nV případě nemožnosti registrace tímto způsobem\, či potřeby dalších informací\, volejte na telefon 773 290 798 nebo pište na email vschtchessclub@gmail.com \n
URL:https://prazskysach.cz/kalendar/vscht-fide-turnaj/
LOCATION:Technická 3\, Praha\, Hlavní město Praha\, 16000\, Česká republika
CATEGORIES:Turnaje
ORGANIZER;CN="%C5%A0achov%C3%BD%20Klub%20V%C5%A0CHT":MAILTO:vschtchessclub@gmail.com
END:VEVENT
BEGIN:VEVENT
DTSTART;TZID=Europe/Prague:20240224T133000
DTEND;TZID=Europe/Prague:20240224T180000
DTSTAMP:20260419T201255
CREATED:20230819T150848Z
LAST-MODIFIED:20230819T150848Z
UID:11469-1708781400-1708797600@prazskysach.cz
SUMMARY:Kobyliský rapid
DESCRIPTION:Seriál turnajů v rapidu pořádaný šachovým oddílem TJ Kobylisy. Propozice ZDE \n
URL:https://prazskysach.cz/kalendar/kobylisky-rapid-64/
LOCATION:U Školské zahrady 430/9\, Praha 8-Kobylisy\, Hlavní město Praha\, Česká republika
CATEGORIES:Turnaje
END:VEVENT
END:VCALENDAR