BEGIN:VCALENDAR
VERSION:2.0
PRODID:-//Pražský šachový svaz - ECPv4.5.13//NONSGML v1.0//EN
CALSCALE:GREGORIAN
METHOD:PUBLISH
X-WR-CALNAME:Pražský šachový svaz
X-ORIGINAL-URL:https://prazskysach.cz
X-WR-CALDESC:Events for Pražský šachový svaz
BEGIN:VEVENT
DTSTART;TZID=UTC+1:20240227T080000
DTEND;TZID=UTC+1:20240307T170000
DTSTAMP:20260419T184025
CREATED:20240210T142232Z
LAST-MODIFIED:20240210T142232Z
UID:11758-1709020800-1709830800@prazskysach.cz
SUMMARY:Prague Chess Festival
DESCRIPTION:Festival několika šachový turnajů. \nVíce na stránkách turnaje \n  \n
URL:https://prazskysach.cz/kalendar/prague-chess-festival/
LOCATION:Vinohradská 157a\, Praha 3\, Hlavní město Praha\, 130 20\, Česká republika
CATEGORIES:Turnaje
END:VEVENT
BEGIN:VEVENT
DTSTART;VALUE=DATE:20240302
DTEND;VALUE=DATE:20240303
DTSTAMP:20260419T184025
CREATED:20230709T152143Z
LAST-MODIFIED:20230709T152143Z
UID:11364-1709337600-1709510399@prazskysach.cz
SUMMARY:Přebor Prahy mládeže HD10-HD20 - kvalifikace
DESCRIPTION:Přebor Prahy mládeže jednotlivců HD10-HD20 – kvalifikace. Detailní informace naleznete po jejich zveřejnění na stránkách PŠS na tomto odkazu.. \n
URL:https://prazskysach.cz/kalendar/prebor-prahy-mladeze-hd10-hd20-kvalifikace/
LOCATION:Hlavní město Praha
CATEGORIES:Turnaje
END:VEVENT
BEGIN:VEVENT
DTSTART;TZID=Europe/Prague:20240303T100000
DTEND;TZID=Europe/Prague:20240303T150000
DTSTAMP:20260419T184025
CREATED:20230709T151847Z
LAST-MODIFIED:20230709T151847Z
UID:11346-1709460000-1709478000@prazskysach.cz
SUMMARY:I. liga - 9.kolo
DESCRIPTION:1. liga družstev  – dospělých. Skupina východ a západ. Každá skupina má 12 družstev. V tento termín se tedy hraje na 12 (2×6) místech. Odkaz na přehled ligových soutěží. \n
URL:https://prazskysach.cz/kalendar/i-liga-9-kolo-6/
LOCATION:Hlavní město Praha
CATEGORIES:Turnaje
ORGANIZER;CN="%C5%A0achov%C3%BD%20svaz%20%C4%8Cesk%C3%A9%20republiky":MAILTO:sekretariat@chess.cz
END:VEVENT
END:VCALENDAR