BEGIN:VCALENDAR
VERSION:2.0
PRODID:-//Pražský šachový svaz - ECPv4.5.13//NONSGML v1.0//EN
CALSCALE:GREGORIAN
METHOD:PUBLISH
X-WR-CALNAME:Pražský šachový svaz
X-ORIGINAL-URL:https://prazskysach.cz
X-WR-CALDESC:Events for Pražský šachový svaz
BEGIN:VEVENT
DTSTART;TZID=Europe/Prague:20240427T090000
DTEND;TZID=Europe/Prague:20240427T140000
DTSTAMP:20260419T171306
CREATED:20231112T181739Z
LAST-MODIFIED:20231112T181739Z
UID:11599-1714208400-1714226400@prazskysach.cz
SUMMARY:PORG OPEN
DESCRIPTION:Seriál otevřených turnajů v rapid šachu pro mládež do 20 let pořádaný Šachový klubem Dopravní podnik Praha z.s. ve spolupráci a za podpory PORG – gymnázium a základní škola o.p.s.  Stránky turnaje  \n
URL:https://prazskysach.cz/kalendar/porg-open-40/
LOCATION:Pod Krčským lesem 1300/25\, Praha 4\, Hlavní město Praha\, 142 00\, Česká republika
CATEGORIES:Turnaje
ORGANIZER;CN="%C5%A0K%20Dopravn%C3%AD%20podnik%20Praha":MAILTO:ruzena.pribylova@gmail.com
END:VEVENT
BEGIN:VEVENT
DTSTART;TZID=Europe/Prague:20240427T133000
DTEND;TZID=Europe/Prague:20240427T180000
DTSTAMP:20260419T171306
CREATED:20230819T150850Z
LAST-MODIFIED:20230819T150850Z
UID:11471-1714224600-1714240800@prazskysach.cz
SUMMARY:Kobyliský rapid
DESCRIPTION:Seriál turnajů v rapidu pořádaný šachovým oddílem TJ Kobylisy. Propozice ZDE \n
URL:https://prazskysach.cz/kalendar/kobylisky-rapid-66/
LOCATION:U Školské zahrady 430/9\, Praha 8-Kobylisy\, Hlavní město Praha\, Česká republika
CATEGORIES:Turnaje
END:VEVENT
END:VCALENDAR