BEGIN:VCALENDAR
VERSION:2.0
PRODID:-//Pražský šachový svaz - ECPv4.5.13//NONSGML v1.0//EN
CALSCALE:GREGORIAN
METHOD:PUBLISH
X-WR-CALNAME:Pražský šachový svaz
X-ORIGINAL-URL:https://prazskysach.cz
X-WR-CALDESC:Events for Pražský šachový svaz
BEGIN:VEVENT
DTSTART;VALUE=DATE:20240525
DTEND;VALUE=DATE:20240526
DTSTAMP:20260419T153110
CREATED:20230709T160746Z
LAST-MODIFIED:20240120T172137Z
UID:11401-1716595200-1716767999@prazskysach.cz
SUMMARY:MČR družstev starších žáků
DESCRIPTION:Turnaj pořádaný ŠSČR. Více na  stránkách ŠSČR.. \n
URL:https://prazskysach.cz/kalendar/mcr-druzstev-starsich-zaku/
CATEGORIES:Turnaje
ORGANIZER;CN="%C5%A0achov%C3%BD%20svaz%20%C4%8Cesk%C3%A9%20republiky":MAILTO:sekretariat@chess.cz
END:VEVENT
BEGIN:VEVENT
DTSTART;TZID=UTC+1:20240525T090000
DTEND;TZID=UTC+1:20240525T160000
DTSTAMP:20260419T153110
CREATED:20240317T091655Z
LAST-MODIFIED:20240317T092309Z
UID:11798-1716627600-1716652800@prazskysach.cz
SUMMARY:Smíchovský soudek
DESCRIPTION:ŠACHOVÝ KLUB Smíchov Praha 5 za podpory ŠO TJ Sokol Vyšehrad Praha \nVás  upřímně zve\nna 38. ročník mezinárodního turnaje 4-členných družstev v bleskovém šachu \nSmíchovský soudek \n o putovní cenu generálního ředitele Pivovarů Staropramen \n\nPropozice\nRegulations\nAusschreibung\n\n\n
URL:https://prazskysach.cz/kalendar/smichovsky-soudek-5/
LOCATION:Nádražní 43/84\, Praha\, Hlavní město Praha\, Česká republika
CATEGORIES:Turnaje
END:VEVENT
BEGIN:VEVENT
DTSTART;TZID=Europe/Prague:20240525T133000
DTEND;TZID=Europe/Prague:20240525T180000
DTSTAMP:20260419T153110
CREATED:20230819T150851Z
LAST-MODIFIED:20230819T150851Z
UID:11472-1716643800-1716660000@prazskysach.cz
SUMMARY:Kobyliský rapid
DESCRIPTION:Seriál turnajů v rapidu pořádaný šachovým oddílem TJ Kobylisy. Propozice ZDE \n
URL:https://prazskysach.cz/kalendar/kobylisky-rapid-67/
LOCATION:U Školské zahrady 430/9\, Praha 8-Kobylisy\, Hlavní město Praha\, Česká republika
CATEGORIES:Turnaje
END:VEVENT
END:VCALENDAR