BEGIN:VCALENDAR
VERSION:2.0
PRODID:-//Pražský šachový svaz - ECPv4.5.13//NONSGML v1.0//EN
CALSCALE:GREGORIAN
METHOD:PUBLISH
X-WR-CALNAME:Pražský šachový svaz
X-ORIGINAL-URL:https://prazskysach.cz
X-WR-CALDESC:Events for Pražský šachový svaz
BEGIN:VEVENT
DTSTART;VALUE=DATE:20240622
DTEND;VALUE=DATE:20240628
DTSTAMP:20260419T140231
CREATED:20240501T172124Z
LAST-MODIFIED:20240501T172124Z
UID:11893-1719014400-1719619199@prazskysach.cz
SUMMARY:Festival Zlatá Praha
DESCRIPTION:srdečně zveme na 19. ročník Pražského šachového festivalu Zlatá Praha 2024. \nV Karlíně se hraje od 22.-28. června několik turnajů ve vážném šachu – Memoriál Františka Macka (S 50+)\, Junior Open (U20) a uzavřené turnaje. \nPražský šachový festival – Chess Academy Club Praha (chess-academy.cz) \nPropozice jsou zde: \nPražský šachový festival 2024 – propozice (chess-academy.cz) \n  \nDále jsou na programu také turnaje ve zkrácených formách šachu: \nPropozice jsou zde: \nZlatá Praha Junior Rapid Open 2024 – propozice (chess-academy.cz) \nZlatá Praha Rapid Open 2024 – propozice (chess-academy.cz) \nZlatá Praha Blitz Open 2024 – propozice (chess-academy.cz) \nOdkaz na přihlašovací formulář: \nhttps://forms.gle/49vQb67saMMfXQfM6 \n
URL:https://prazskysach.cz/kalendar/festival-zlata-praha/
LOCATION:Karlínské náměstí 7\, Praha\, Hlavní město Praha\, Česká republika
CATEGORIES:Turnaje
END:VEVENT
BEGIN:VEVENT
DTSTART;TZID=Europe/Prague:20240622T133000
DTEND;TZID=Europe/Prague:20240622T180000
DTSTAMP:20260419T140231
CREATED:20230819T150851Z
LAST-MODIFIED:20230819T150851Z
UID:11473-1719063000-1719079200@prazskysach.cz
SUMMARY:Kobyliský rapid
DESCRIPTION:Seriál turnajů v rapidu pořádaný šachovým oddílem TJ Kobylisy. Propozice ZDE \n
URL:https://prazskysach.cz/kalendar/kobylisky-rapid-68/
LOCATION:U Školské zahrady 430/9\, Praha 8-Kobylisy\, Hlavní město Praha\, Česká republika
CATEGORIES:Turnaje
END:VEVENT
END:VCALENDAR