BEGIN:VCALENDAR
VERSION:2.0
PRODID:-//Pražský šachový svaz - ECPv4.5.13//NONSGML v1.0//EN
CALSCALE:GREGORIAN
METHOD:PUBLISH
X-WR-CALNAME:Pražský šachový svaz
X-ORIGINAL-URL:https://prazskysach.cz
X-WR-CALDESC:Events for Pražský šachový svaz
BEGIN:VEVENT
DTSTART;TZID=Europe/Prague:20241123T080000
DTEND;TZID=Europe/Prague:20241123T173000
DTSTAMP:20260424T033955
CREATED:20240802T103321Z
LAST-MODIFIED:20240831T133622Z
UID:12076-1732348800-1732383000@prazskysach.cz
SUMMARY:Turnaj generací
DESCRIPTION:Turnaj v rapid-šachu pro hráče bez rozdílu věku a výkonnosti. \nPropozice zde. \n
URL:https://prazskysach.cz/kalendar/turnaj-generaci-5/
LOCATION:Štefánikova 13\, Praha 5\, Hlavní město Praha\, 150 00\, Česká republika
CATEGORIES:Turnaje
END:VEVENT
BEGIN:VEVENT
DTSTART;TZID=Europe/Prague:20241123T090000
DTEND;TZID=Europe/Prague:20241123T133000
DTSTAMP:20260424T033955
CREATED:20240907T123354Z
LAST-MODIFIED:20240907T123354Z
UID:12201-1732352400-1732368600@prazskysach.cz
SUMMARY:ČS open blesk
DESCRIPTION:Bleskový turnaj  – Československý šach Open – Grand Prix 1. ITGymnázia 2024/25.  Propozice zde \n
URL:https://prazskysach.cz/kalendar/cs-open-blesk/
LOCATION:K cihelně 129/1\, Praha\, Hlavní město Praha\, Česká republika
CATEGORIES:Turnaje
END:VEVENT
BEGIN:VEVENT
DTSTART;TZID=UTC+1:20241123T100000
DTEND;TZID=UTC+1:20241123T180000
DTSTAMP:20260424T033955
CREATED:20241026T123744Z
LAST-MODIFIED:20241026T123744Z
UID:12294-1732356000-1732384800@prazskysach.cz
SUMMARY:Školení rozhodčích
DESCRIPTION:KR PŠS pořádá\nŠkolení rozhodčích 3. třídy\na\nSeminář rozhodčích 2. a 3. třídy \nPropozice ZDE \n
URL:https://prazskysach.cz/kalendar/skoleni-rozhodcich-8/
LOCATION:Jeremenkova 106\, Praha\, Hlavní město Praha\, 14053\, Česká republika
CATEGORIES:Seminář,Školení
END:VEVENT
BEGIN:VEVENT
DTSTART;TZID=Europe/Prague:20241123T133000
DTEND;TZID=Europe/Prague:20241123T180000
DTSTAMP:20260424T033955
CREATED:20240901T054613Z
LAST-MODIFIED:20240901T054613Z
UID:12180-1732368600-1732384800@prazskysach.cz
SUMMARY:Kobyliský rapid
DESCRIPTION:Seriál turnajů v rapidu pořádaný šachovým oddílem TJ Kobylisy. Propozice ZDE \n
URL:https://prazskysach.cz/kalendar/kobylisky-rapid-71/
LOCATION:U Školské zahrady 430/9\, Praha 8-Kobylisy\, Hlavní město Praha\, Česká republika
CATEGORIES:Turnaje
END:VEVENT
END:VCALENDAR