BEGIN:VCALENDAR
VERSION:2.0
PRODID:-//Pražský šachový svaz - ECPv4.5.13//NONSGML v1.0//EN
CALSCALE:GREGORIAN
METHOD:PUBLISH
X-WR-CALNAME:Pražský šachový svaz
X-ORIGINAL-URL:https://prazskysach.cz
X-WR-CALDESC:Events for Pražský šachový svaz
BEGIN:VEVENT
DTSTART;TZID=Europe/Prague:20250105T100000
DTEND;TZID=Europe/Prague:20250105T150000
DTSTAMP:20260421T042443
CREATED:20240802T095114Z
LAST-MODIFIED:20240802T095114Z
UID:12043-1736071200-1736089200@prazskysach.cz
SUMMARY:I. liga - 5.kolo
DESCRIPTION:1. liga družstev  – dospělých. Skupina východ a západ. Každá skupina má 12 družstev. V tento termín se tedy hraje na 12 (2×6) místech. Odkaz na přehled ligových soutěží. \n
URL:https://prazskysach.cz/kalendar/i-liga-5-kolo-7/
CATEGORIES:Turnaje
ORGANIZER;CN="%C5%A0achov%C3%BD%20svaz%20%C4%8Cesk%C3%A9%20republiky":MAILTO:sekretariat@chess.cz
END:VEVENT
BEGIN:VEVENT
DTSTART;TZID=Europe/Prague:20250105T133000
DTEND;TZID=Europe/Prague:20250105T170000
DTSTAMP:20260421T042443
CREATED:20241214T153835Z
LAST-MODIFIED:20241214T153835Z
UID:12368-1736083800-1736096400@prazskysach.cz
SUMMARY:Kobyliský koník
DESCRIPTION:Seriál rapid turnajů pro mládež (nar. 2009 a mladší) pořádaný šachovým oddílem TJ Kobylisy. Propozice ZDE \n
URL:https://prazskysach.cz/kalendar/kobylisky-konik-29/
LOCATION:U Školské zahrady 430/9\, Praha 8-Kobylisy\, Hlavní město Praha\, Česká republika
CATEGORIES:Turnaje
END:VEVENT
END:VCALENDAR