BEGIN:VCALENDAR
VERSION:2.0
PRODID:-//Pražský šachový svaz - ECPv4.5.13//NONSGML v1.0//EN
CALSCALE:GREGORIAN
METHOD:PUBLISH
X-WR-CALNAME:Pražský šachový svaz
X-ORIGINAL-URL:https://prazskysach.cz
X-WR-CALDESC:Events for Pražský šachový svaz
BEGIN:VEVENT
DTSTART;TZID=Europe/Prague:20250330T100000
DTEND;TZID=Europe/Prague:20250330T190000
DTSTAMP:20260424T070024
CREATED:20240802T093815Z
LAST-MODIFIED:20240802T093815Z
UID:12036-1743328800-1743361200@prazskysach.cz
SUMMARY:Extraliga - 11. kolo
DESCRIPTION:Nejvyšší šachová soutěž družstev v ČR.\nOdkaz na výsledky a rozpis soutěže. \n
URL:https://prazskysach.cz/kalendar/extraliga-11-kolo-8/
CATEGORIES:Turnaje
ORGANIZER;CN="%C5%A0achov%C3%BD%20svaz%20%C4%8Cesk%C3%A9%20republiky":MAILTO:sekretariat@chess.cz
END:VEVENT
BEGIN:VEVENT
DTSTART;TZID=Europe/Prague:20250330T100000
DTEND;TZID=Europe/Prague:20250330T150000
DTSTAMP:20260424T070024
CREATED:20240802T095148Z
LAST-MODIFIED:20240802T095148Z
UID:12060-1743328800-1743346800@prazskysach.cz
SUMMARY:II. liga - 11.kolo
DESCRIPTION:2.liga družstev  – dospělých. Týmy jsou rozděleny do 6 skupin A až F.  Každá skupina má 12 družstev. V tento termín se tedy hraje na 36 (6×6) místech. Odkaz na přehled ligových soutěží. \n
URL:https://prazskysach.cz/kalendar/ii-liga-11-kolo-9/
CATEGORIES:Turnaje
ORGANIZER;CN="%C5%A0achov%C3%BD%20svaz%20%C4%8Cesk%C3%A9%20republiky":MAILTO:sekretariat@chess.cz
END:VEVENT
END:VCALENDAR