BEGIN:VCALENDAR
VERSION:2.0
PRODID:-//Pražský šachový svaz - ECPv4.5.13//NONSGML v1.0//EN
CALSCALE:GREGORIAN
METHOD:PUBLISH
X-WR-CALNAME:Pražský šachový svaz
X-ORIGINAL-URL:https://prazskysach.cz
X-WR-CALDESC:Events for Pražský šachový svaz
BEGIN:VEVENT
DTSTART;VALUE=DATE:20250405
DTEND;VALUE=DATE:20250406
DTSTAMP:20260423T202900
CREATED:20240802T114158Z
LAST-MODIFIED:20240802T114158Z
UID:12091-1743811200-1743983999@prazskysach.cz
SUMMARY:MČR do 8 let
DESCRIPTION:Turnaj pořádaný ŠSČR. Více na  stránkách ŠSČR.. \n
URL:https://prazskysach.cz/kalendar/mcr-do-8-let-4/
CATEGORIES:Turnaje
ORGANIZER;CN="%C5%A0achov%C3%BD%20svaz%20%C4%8Cesk%C3%A9%20republiky":MAILTO:sekretariat@chess.cz
END:VEVENT
BEGIN:VEVENT
DTSTART;TZID=UTC+1:20250406T090000
DTEND;TZID=UTC+1:20250406T153000
DTSTAMP:20260423T202900
CREATED:20250102T200814Z
LAST-MODIFIED:20250102T200814Z
UID:12409-1743930000-1743953400@prazskysach.cz
SUMMARY:OAZA AKROP OPEN 2024 - 2. turnaj
DESCRIPTION:Propozice ZDE: OAZA_AKROP_OPEN_2025 \n
URL:https://prazskysach.cz/kalendar/oaza-akrop-open-2024-2-turnaj-2/
LOCATION:Jeremenkova 106\, Praha\, Hlavní město Praha\, 14053\, Česká republika
END:VEVENT
BEGIN:VEVENT
DTSTART;TZID=Europe/Prague:20250406T100000
DTEND;TZID=Europe/Prague:20250406T150000
DTSTAMP:20260423T202900
CREATED:20240802T095140Z
LAST-MODIFIED:20240802T095140Z
UID:12049-1743933600-1743951600@prazskysach.cz
SUMMARY:I. liga - 11.kolo
DESCRIPTION:1. liga družstev  – dospělých. Skupina východ a západ. Každá skupina má 12 družstev. V tento termín se tedy hraje na 12 (2×6) místech. Odkaz na přehled ligových soutěží. \n
URL:https://prazskysach.cz/kalendar/i-liga-11-kolo-7/
CATEGORIES:Turnaje
ORGANIZER;CN="%C5%A0achov%C3%BD%20svaz%20%C4%8Cesk%C3%A9%20republiky":MAILTO:sekretariat@chess.cz
END:VEVENT
END:VCALENDAR