BEGIN:VCALENDAR
VERSION:2.0
PRODID:-//Pražský šachový svaz - ECPv4.5.13//NONSGML v1.0//EN
CALSCALE:GREGORIAN
METHOD:PUBLISH
X-WR-CALNAME:Pražský šachový svaz
X-ORIGINAL-URL:https://prazskysach.cz
X-WR-CALDESC:Events for Pražský šachový svaz
BEGIN:VEVENT
DTSTART;TZID=UTC+1:20250430T173000
DTEND;TZID=UTC+1:20250430T223000
DTSTAMP:20260420T085433
CREATED:20250408T195146Z
LAST-MODIFIED:20250408T195146Z
UID:12700-1746034200-1746052200@prazskysach.cz
SUMMARY:Přebor Prahy jednotlivců - Rejfířův memoriál - 3. kolo
DESCRIPTION:\nvíce ZDE\n\n
URL:https://prazskysach.cz/kalendar/prebor-prahy-jednotlivcu-rejfiruv-memorial-3-kolo/
END:VEVENT
BEGIN:VEVENT
DTSTART;TZID=Europe/Prague:20250430T180000
DTEND;TZID=Europe/Prague:20250430T220000
DTSTAMP:20260420T085433
CREATED:20250329T173543Z
LAST-MODIFIED:20250330T152752Z
UID:12651-1746036000-1746050400@prazskysach.cz
SUMMARY:O putovního koně
DESCRIPTION:47.ročník seriálu turnajů „O Putovního Koně Lokomotivy“ 2024/2025. Propozice ZDE. \n
URL:https://prazskysach.cz/kalendar/o-putovniho-kone-59/
LOCATION:Technická 2\, Praha\, Hlavní město Praha\, Česká republika
CATEGORIES:Turnaje
END:VEVENT
END:VCALENDAR