BEGIN:VCALENDAR
VERSION:2.0
PRODID:-//Pražský šachový svaz - ECPv4.5.13//NONSGML v1.0//EN
CALSCALE:GREGORIAN
METHOD:PUBLISH
X-WR-CALNAME:Pražský šachový svaz
X-ORIGINAL-URL:https://prazskysach.cz
X-WR-CALDESC:Events for Pražský šachový svaz
BEGIN:VEVENT
DTSTART;TZID=UTC+1:20250507T173000
DTEND;TZID=UTC+1:20250507T223000
DTSTAMP:20260420T214103
CREATED:20250408T195456Z
LAST-MODIFIED:20250408T195456Z
UID:12702-1746639000-1746657000@prazskysach.cz
SUMMARY:Přebor Prahy jednotlivců - Rejfířův memoriál - 4. kolo
DESCRIPTION:\nvíce ZDE\n\n
URL:https://prazskysach.cz/kalendar/prebor-prahy-jednotlivcu-rejfiruv-memorial-4-kolo/
END:VEVENT
BEGIN:VEVENT
DTSTART;TZID=Europe/Prague:20250507T180000
DTEND;TZID=Europe/Prague:20250507T220000
DTSTAMP:20260420T214103
CREATED:20250329T173544Z
LAST-MODIFIED:20250330T152742Z
UID:12652-1746640800-1746655200@prazskysach.cz
SUMMARY:O putovního koně
DESCRIPTION:47.ročník seriálu turnajů „O Putovního Koně Lokomotivy“ 2024/2025. Propozice ZDE. \n
URL:https://prazskysach.cz/kalendar/o-putovniho-kone-60/
LOCATION:Technická 2\, Praha\, Hlavní město Praha\, Česká republika
CATEGORIES:Turnaje
END:VEVENT
END:VCALENDAR